BEGIN:VCALENDAR
VERSION:2.0
PRODID:-//ChamberMaster//Event Calendar 2.0//EN
METHOD:PUBLISH
X-PUBLISHED-TTL:P3D
REFRESH-INTERVAL:P3D
CALSCALE:GREGORIAN
BEGIN:VEVENT
DTSTART:20141003T013000Z
DTEND:20141003T033000Z
X-MICROSOFT-CDO-ALLDAYEVENT:FALSE
SUMMARY:Celebrity Concert Series: Utah Symphony Orchestra
DESCRIPTION:Thierry Fischer\, Musical Director with Vladimir Kulenovic conducting.\n\nA perennial favorite of Southern Utah audiences\, the famed Utah Symphony Orchestra returns with an exciting program of audience favorites.
X-ALT-DESC;FMTTYPE=text/html:<p class="font_8" style="margin: 0px\; padding: 0px\; border: 0px\; outline: 0px\; vertical-align: baseline\; font-size: 14px\; line-height: normal\; font-family: play\, sans-serif\; color: rgb(171\, 171\, 171)\; background: 0px 0px\;"><span style="font-size:14px\;"><span style="font-family:arial\;"><span style="color:#000000\;">Thierry Fischer\, Musical Director with Vladimir Kulenovic conducting.</span></span></span></p>\n\n<p class="font_8" style="margin: 0px\; padding: 0px\; border: 0px\; outline: 0px\; vertical-align: baseline\; font-size: 14px\; line-height: normal\; font-family: play\, sans-serif\; color: rgb(171\, 171\, 171)\; background: 0px 0px\;"><span style="font-size:14px\;"><span style="font-family:arial\;"><span style="color:#000000\;">A perennial favorite of Southern Utah audiences\, the famed Utah Symphony Orchestra returns with an exciting program of audience favorites.</span></span></span></p>\n
LOCATION:Cox Performing Arts Center on Dixie State University campus 325 South 700 East\, St. George\, Utah.
UID:e.1117.6082
SEQUENCE:3
DTSTAMP:20260421T030050Z
URL:https://business.stgeorgechamber.com/events/details/celebrity-concert-series-utah-symphony-orchestra-10-02-2014-6082
END:VEVENT

END:VCALENDAR
