BEGIN:VCALENDAR
VERSION:2.0
PRODID:-//ChamberMaster//Event Calendar 2.0//EN
METHOD:PUBLISH
X-PUBLISHED-TTL:P3D
REFRESH-INTERVAL:P3D
CALSCALE:GREGORIAN
BEGIN:VEVENT
DTSTART:20140225T023000Z
DTEND:20140225T043000Z
X-MICROSOFT-CDO-ALLDAYEVENT:FALSE
SUMMARY:Celebrity Concert Series: River City Brass Band
DESCRIPTION:From California to New York (as well as everywhere in between)\, River City Brass has delighted audiences with its signature style. The Band has been a featured performer at the Adelaide Festival of the Arts (Australia)\, Musikfest (Pennsylvania)\, Chautauqua Institution (New York)\, New Zealand International Festival of the Arts\, Interlochen Center for the Arts\, (Michigan)\, and Thalian Hall (North Carolina)\, among many other venues.\n\n	The River City Brass Band is a modified British-style brass band based in Pittsburgh\, Pennsylvania. The band performed its first concert on November 21\, 1981\, with its founder Robert Bernat as conductor
X-ALT-DESC;FMTTYPE=text/html:<span style="font-size:14px\;">From California to New York (as well as everywhere in between)\, River City Brass has delighted audiences with its signature style. The Band has been a featured performer at the Adelaide Festival of the Arts (Australia)\, Musikfest (Pennsylvania)\, Chautauqua Institution (New York)\, New Zealand International Festival of the Arts\, Interlochen Center for the Arts\, (Michigan)\, and Thalian Hall (North Carolina)\, among many other venues.</span>\n<p>\n	<span style="font-size:14px\;">The River City Brass Band is a modified British-style brass band based in Pittsburgh\, Pennsylvania. The band performed its first concert on November 21\, 1981\, with its founder Robert Bernat as conductor&nbsp\;</span></p>\n
LOCATION:Cox Performing Arts Center on Dixie State University campus 325 South 700 East\, St. George\, Utah.
UID:e.1117.5008
SEQUENCE:3
DTSTAMP:20260421T143053Z
URL:https://business.stgeorgechamber.com/events/details/celebrity-concert-series-river-city-brass-band-02-24-2014-5008
END:VEVENT

END:VCALENDAR
