BEGIN:VCALENDAR
VERSION:2.0
PRODID:-//ChamberMaster//Event Calendar 2.0//EN
METHOD:PUBLISH
X-PUBLISHED-TTL:P3D
REFRESH-INTERVAL:P3D
CALSCALE:GREGORIAN
BEGIN:VEVENT
DTSTART:20160127T023000Z
DTEND:20160127T050000Z
X-MICROSOFT-CDO-ALLDAYEVENT:FALSE
SUMMARY:Celebrity Concert Series: Presidio Brass
DESCRIPTION:Since forming in 2006\, Presidio Brass has rocketed to success as the face of a bold new generation in brass entertainment. By combining a brass quintet\, piano and percussion instruments with fresh\, original arrangements\, their unique sound has become a trademark for the ensemble from San Diego\, CA\, captivating audiences the world over.
X-ALT-DESC;FMTTYPE=text/html:<p class="font_9" style="margin: 0px\; padding: 0px\; border: 0px\; outline: 0px\; vertical-align: baseline\; font-stretch: normal\; font-size: 14px\; line-height: normal\; font-family: spinnaker\, sans-serif\; color: rgb(255\, 255\, 255)\; background: transparent\;"><span style="color: rgb(0\, 0\, 0)\; font-family: spinnaker\, sans-serif\; font-size: 14px\; line-height: normal\;">Since forming in 2006\, Presidio Brass has rocketed to success as the face of a bold new generation in brass entertainment. By combining a brass quintet\, piano and percussion instruments with fresh\, original arrangements\, their unique sound has become a trademark for the ensemble from San Diego\, CA\, captivating audiences the world over.</span></p>\n
LOCATION:Cox Auditorium 225 S. 700 E. St. George
UID:e.1117.7265
SEQUENCE:3
DTSTAMP:20260420T013137Z
URL:https://business.stgeorgechamber.com/events/details/celebrity-concert-series-presidio-brass-01-26-2016-7265
END:VEVENT

END:VCALENDAR
