BEGIN:VCALENDAR
VERSION:2.0
PRODID:-//ChamberMaster//Event Calendar 2.0//EN
METHOD:PUBLISH
X-PUBLISHED-TTL:P3D
REFRESH-INTERVAL:P3D
CALSCALE:GREGORIAN
BEGIN:VEVENT
DTSTART:20150128T023000Z
DTEND:20150128T043000Z
X-MICROSOFT-CDO-ALLDAYEVENT:FALSE
SUMMARY:Celebrity Concert Series presents Piano Battle
DESCRIPTION:The brainchild of internationally accomplished pianists Andreas Kern and Paul Cibis\, The PIANO BATTLE is a one-of-a-kind classical experience shouldn't be missed. \n\n \n\nKern & Cibis\, each with his own distinct performance style\, will try to out-perform the other with pieces by famous composers such as Chopin\, Liszt and Debussy.  While they may be "battling" on stage\, both pianists share a common goal to celebrate classical music.  The performance is serious classical music mixed with charm\, wit and a creative twist   the audience chooses the winner! \n\n \n\nAndreas Kern is a pianist\, artistic director\, producer and composer who thrives on celebrating classical music in unconventional ways.  He is inspired by a collection of visionary ideas\, innovative trends and everyday observations.\n\n \n\nPaul Cibis was educated in Hanover\, Berlin & London.  He has performed on five continents and has an established international presence.  Cibis performs in both solo and duo recitals and co-developed Piano Battle as a way to present classic music in unique ways.\n\n \n\nThe concert is made possible through a generous sponsorship by Courtyard Marriott.  Nice Dress is suggested.\n\n \n\nThe Celebrity Concert Series presents a variety of professional concerts on the campus of Dixie State University from October to April each year.  Tickets can be purchased online\, in person\, or by telephone.  The Dixie State University Ticket Office is located inside the Cox Performing Arts Center\, 385 South 700 East\, St. George.  435-652-7800  www.dsutix.com
X-ALT-DESC;FMTTYPE=text/html:<span style="font-size:14px\;"><span style="font-family:arial\;">The brainchild of internationally accomplished pianists Andreas Kern and Paul Cibis\, The <em>PIANO BATTLE</em> is a one-of-a-kind classical experience shouldn&rsquo\;t be missed.&nbsp\;<br />\n&nbsp\;<br />\nKern &amp\; Cibis\, each with his own distinct performance style\, will try to out-perform the other with pieces by famous composers such as Chopin\, Liszt and Debussy.&nbsp\; While they may be &ldquo\;battling&rdquo\; on stage\, both pianists share a common goal to celebrate classical music.&nbsp\; The performance is serious classical <a name="_GoBack"></a>music mixed with charm\, wit and a creative twist &ndash\; the audience chooses the winner!&nbsp\;<br />\n&nbsp\;<br />\nAndreas Kern is a pianist\, artistic director\, producer and composer who thrives on celebrating classical music in unconventional ways.&nbsp\; He is inspired by a collection of visionary ideas\, innovative trends and everyday observations.<br />\n&nbsp\;<br />\nPaul Cibis was educated in Hanover\, Berlin &amp\; London.&nbsp\; He has performed on five continents and has an established international presence.&nbsp\; Cibis performs in both solo and duo recitals and co-developed <em>Piano Battle</em> as a way to present classic music in unique ways.<br />\n&nbsp\;<br />\n<span style="background-image:initial\;background-attachment:initial\;background-size:initial\;background-origin:initial\;background-clip:initial\;background-position:initial\;background-repeat:initial\;">The concert is made possible through a generous sponsorship by Courtyard Marriott.&nbsp\; <em>Nice Dress is suggested.</em></span><br />\n&nbsp\;<br />\nThe Celebrity Concert Series presents a variety of professional concerts on the campus of Dixie State University from October to April each year.&nbsp\; Tickets can be purchased online\, in person\, or by telephone.&nbsp\; The Dixie State University Ticket Office is located inside the Cox Performing Arts Center\, 385 South 700 East\, St. George.&nbsp\; 435-652-7800&nbsp\; <a href="http://www.dsutix.com/">www.dsutix.com</a></span></span>
LOCATION:Cox Performing Arts Center 385 South University Avenue
UID:e.1117.6209
SEQUENCE:3
DTSTAMP:20260420T221231Z
URL:https://business.stgeorgechamber.com/events/details/celebrity-concert-series-presents-piano-battle-01-27-2015-6209
END:VEVENT

END:VCALENDAR
