BEGIN:VCALENDAR
VERSION:2.0
PRODID:-//ChamberMaster//Event Calendar 2.0//EN
METHOD:PUBLISH
X-PUBLISHED-TTL:P3D
REFRESH-INTERVAL:P3D
CALSCALE:GREGORIAN
BEGIN:VEVENT
DTSTART:20150705T013000Z
DTEND:20150705T033000Z
X-MICROSOFT-CDO-ALLDAYEVENT:FALSE
SUMMARY:Celebrity Concert Series presents Juice Newton with Exile
DESCRIPTION:DSU is proud to welcome Juice Newton with Exile to the Cox Auditorium stage.  Come enjoy an evening of songs you know and love by the artists who made them hits.\n\nSeating will be in a special area outside the Cox Auditorium where the city fireworks program will be in full view.  Light refreshments will be served.
X-ALT-DESC;FMTTYPE=text/html:<p style="color: rgb(0\, 0\, 0)\; font-family: Tahoma\, Geneva\, sans-serif\; font-size: medium\; line-height: normal\;">DSU is proud to welcome&nbsp\;<strong>Juice Newton with Exile&nbsp\;</strong>to the Cox Auditorium stage. &nbsp\;Come enjoy an evening of songs you know and love by the artists who made them hits.</p>\n\n<p style="color: rgb(0\, 0\, 0)\; font-family: Tahoma\, Geneva\, sans-serif\; font-size: medium\; line-height: normal\;">Seating will be in a special area outside the Cox Auditorium where the city fireworks program will be in full view. &nbsp\;Light refreshments will be served. &nbsp\;</p>\n
LOCATION:Cox Performing Arts Center 385 South University Avenue
UID:e.1117.6477
SEQUENCE:3
DTSTAMP:20260420T121917Z
URL:https://business.stgeorgechamber.com/events/details/celebrity-concert-series-presents-juice-newton-with-exile-07-04-2015-6477
END:VEVENT

END:VCALENDAR
