BEGIN:VCALENDAR
VERSION:2.0
PRODID:-//ChamberMaster//Event Calendar 2.0//EN
METHOD:PUBLISH
X-PUBLISHED-TTL:P3D
REFRESH-INTERVAL:P3D
CALSCALE:GREGORIAN
BEGIN:VEVENT
DTSTART:20160318T013000Z
DTEND:20160318T040000Z
X-MICROSOFT-CDO-ALLDAYEVENT:FALSE
SUMMARY:Celebrity Concert Series: O Sole Trio
DESCRIPTION:O Sole Trio is a new\, vibrant musical ensemble that has brought their exhilerating and unique show capturing the essence of Italy to numerous venues throught North America and beyond.  It has garnered rave reviews from audiences and critics alike.
X-ALT-DESC;FMTTYPE=text/html:<p class="font_9" style="margin: 0px\; padding: 0px\; border: 0px\; outline: 0px\; vertical-align: baseline\; font-stretch: normal\; font-size: 14px\; line-height: normal\; font-family: spinnaker\, sans-serif\; color: rgb(255\, 255\, 255)\; background: transparent\;"><span style="color: rgb(0\, 0\, 0)\; font-family: spinnaker\, sans-serif\; font-size: 14px\; line-height: normal\;">O Sole Trio is a new\, vibrant musical ensemble that has brought their exhilerating and unique show capturing the essence of Italy to numerous venues throught North America and beyond. &nbsp\;It has garnered rave reviews from audiences and critics alike.</span></p>\n
LOCATION:Cox Auditorium 225 S. 700 E. St. George
UID:e.1117.7268
SEQUENCE:3
DTSTAMP:20260419T220142Z
URL:https://business.stgeorgechamber.com/events/details/celebrity-concert-series-o-sole-trio-03-17-2016-7268
END:VEVENT

END:VCALENDAR
