BEGIN:VCALENDAR
VERSION:2.0
PRODID:-//ChamberMaster//Event Calendar 2.0//EN
METHOD:PUBLISH
X-PUBLISHED-TTL:P3D
REFRESH-INTERVAL:P3D
CALSCALE:GREGORIAN
BEGIN:VEVENT
DTSTART:20131101T013000Z
DTEND:20131101T033000Z
X-MICROSOFT-CDO-ALLDAYEVENT:FALSE
SUMMARY:Celebrity Concert Series: Neil Berg's 100 Years of Broadway
DESCRIPTION:100 Years of Broadway recreates the greatest moments from the finest shows of the century featuring the actual stars of shows such as The Phantom of the Opera\, Les Miserables\, CATS\, Jesus Christ Superstar\, and Jekyll & Hyde. These amazing performers light up the stage with songs from the hit shows in which they starred. Neil Berg presents brilliantly revived arrangements of Broadway classics as well as thrilling numbers from Broadway's newest hit shows.
X-ALT-DESC;FMTTYPE=text/html:<p style="font-size: 14px\; color: rgb(255\, 255\, 255)\; font-family: verdana\, arial\, sans-serif\;">\n	<span style="color:#000000\;">100 Years of Broadway recreates the greatest moments from the finest shows of the century featuring the actual stars of shows such as The Phantom of the Opera\, Les Miserables\, CATS\, Jesus Christ Superstar\, and Jekyll &amp\; Hyde. These amazing performers light up the stage with songs from the hit shows in which they starred. Neil Berg presents brilliantly revived arrangements of Broadway classics as well as thrilling numbers from Broadway&#39\;s newest hit shows.&nbsp\;</span></p>\n
LOCATION:Cox Performing Arts Center on Dixie State University campus 325 South 700 East\, St. George\, Utah.
UID:e.1117.4318
SEQUENCE:3
DTSTAMP:20260421T202100Z
URL:https://business.stgeorgechamber.com/events/details/celebrity-concert-series-neil-berg-s-100-years-of-broadway-10-31-2013-4318
END:VEVENT

END:VCALENDAR
