BEGIN:VCALENDAR
VERSION:2.0
PRODID:-//ChamberMaster//Event Calendar 2.0//EN
METHOD:PUBLISH
X-PUBLISHED-TTL:P3D
REFRESH-INTERVAL:P3D
CALSCALE:GREGORIAN
BEGIN:VEVENT
DTSTART:20140115T023000Z
DTEND:20140115T043000Z
X-MICROSOFT-CDO-ALLDAYEVENT:FALSE
SUMMARY:Celebrity Concert Series: Mimi Blais and Friends
DESCRIPTION:Ragtime Pianist and Comedian\, Mimi Blais received several nicknames during her career: The female Victor Borge\, The C line Dion of the keyboard\, The French Canadian Liberacette  but the one she's proud to wear since 1990 is: The New Queen Of Ragtime. This show features Mimi and the friends Tamas Ittzes\, Martin Spitznagel\, Frederick Hodges on piano and violin and includes songs\, silent film and comedy and more.
X-ALT-DESC;FMTTYPE=text/html:<span style="font-size:14px\;"><span style="font-family:arial\;">Ragtime Pianist and Comedian\, Mimi Blais received several nicknames during her career: The female Victor Borge\, The C&eacute\;line Dion of the keyboard\, The French Canadian Liberacette&hellip\; but the one she&rsquo\;s proud to wear since 1990 is: The New Queen Of Ragtime. This show features Mimi and the friends Tamas Ittzes\, Martin Spitznagel\, Frederick Hodges on piano and violin and includes songs\, silent film and comedy and more.</span></span>
LOCATION:Cox Performing Arts Center on Dixie State University campus 325 South 700 East\, St. George\, Utah.
UID:e.1117.5003
SEQUENCE:3
DTSTAMP:20260421T154646Z
URL:https://business.stgeorgechamber.com/events/details/celebrity-concert-series-mimi-blais-and-friends-01-14-2014-5003
END:VEVENT

END:VCALENDAR
