BEGIN:VCALENDAR
VERSION:2.0
PRODID:-//ChamberMaster//Event Calendar 2.0//EN
METHOD:PUBLISH
X-PUBLISHED-TTL:P3D
REFRESH-INTERVAL:P3D
CALSCALE:GREGORIAN
BEGIN:VEVENT
DTSTART:20151218T023000Z
DTEND:20151218T050000Z
X-MICROSOFT-CDO-ALLDAYEVENT:FALSE
SUMMARY:Celebrity Concert Series: M-Pact Christmas Concert
DESCRIPTION:Hailed "one of the best pop-jazz vocal groups in the world" by the San Francisco Chronicle\, M-Pact is respected worldwide as a cutting edge trailblazer in the realm of vocal music. Emerging from an age of auto-tune and overproduction\, this Los Angeles-based ensemble has cultivated a new generation of ears hungry for the fresh\, raw power of nature's "first instrument" - the human voice.
X-ALT-DESC;FMTTYPE=text/html:<span style="color: rgb(0\, 0\, 0)\; font-family: spinnaker\, sans-serif\; font-size: 14px\; line-height: normal\;">Hailed &quot\;one of the best pop-jazz vocal groups in the world&quot\; by the San Francisco Chronicle\, M-Pact is respected worldwide as a cutting edge trailblazer in the realm of vocal music. Emerging from an age of auto-tune and overproduction\, this Los Angeles-based ensemble has cultivated a new generation of ears hungry for the fresh\, raw power of nature&#39\;s &quot\;first instrument&quot\; - the human voice.&nbsp\;</span>
LOCATION:Cox Auditorium 225 S. 700 E. St. George
UID:e.1117.7263
SEQUENCE:3
DTSTAMP:20260420T031919Z
URL:https://business.stgeorgechamber.com/events/details/celebrity-concert-series-m-pact-christmas-concert-12-17-2015-7263
END:VEVENT

END:VCALENDAR
