BEGIN:VCALENDAR
VERSION:2.0
PRODID:-//ChamberMaster//Event Calendar 2.0//EN
METHOD:PUBLISH
X-PUBLISHED-TTL:P3D
REFRESH-INTERVAL:P3D
CALSCALE:GREGORIAN
BEGIN:VEVENT
DTSTART:20131022T013000Z
DTEND:20131022T033000Z
X-MICROSOFT-CDO-ALLDAYEVENT:FALSE
SUMMARY:Celebrity Concert Series: Let's Hang On!
DESCRIPTION:LETS HANG ON! the nation's premier Frankie Valli and The Four Seasons Tribute SHOW is a full blown stage production complete with that Four Season's sound\, crisp choreography\, and a 4-7 piece live band.\n\n \n\nCelebrity Concert Series presents this fun and nostalgic show\, sponsored by Vantage Advisors\, LLC on Monday\, October 21.\n\n \n\nYou'll see four great looking guys and two beautiful girls sing and dance their way through some of the best songs of all time. What you get is a 90 minute\, high-energy\, great sounding production\, sure to entertain every audience!\n\n \n\nThe guys of Let's Hang On! cover all of the great Four Seasons Hits complete with that awesome falsetto supported by superb harmonies! You'll hear: "Big Girls Dont Cry\," "Walk Like A Man\," "Sherry\," "I've Got you under My Skin\," "C'mon Marianne\," "Can't Take My Eyes Off of You\," "December Of 1963\," "Who Loves You\," "My Eyes Adored You\," "Lets Hang On\," "Working my Way Back To You\," "Stay\," "Beggin'\," "Dawn\," Rag Doll\," and "Big Man In Town."\n\n \n\nThe girls get an opportunity to shine by performing some of the top songs of all time: "Locomotion\," "Be my Baby\," "Lollipop\," "Downtown\," "You Cant Hurry Love\," "These Boots Were Made For Walkin\," and "Since I Dont Have You."\n\n \n\nDon't miss this exciting Celebrity Concert Series event.
X-ALT-DESC;FMTTYPE=text/html:<span style="color:black\;"><span style="font-size:11.0pt\;">LETS HANG ON! the nation&#39\;s premier Frankie Valli and The Four Seasons Tribute SHOW is a full blown stage production complete with that Four Season&#39\;s sound\, crisp choreography\, and a 4-7 piece live band.</span></span><br />\n&nbsp\;<br />\n<span style="color:black\;"><span style="font-size:11.0pt\;">Celebrity Concert Series presents this fun and nostalgic show\, sponsored by Vantage Advisors\, LLC on Monday\, October 21.</span></span><br />\n&nbsp\;<br />\n<span style="color:black\;"><span style="font-size:11.0pt\;">You&#39\;ll see four great looking guys and two beautiful girls sing and dance their way through some of the best songs of all time. What you get is a 90 minute\, high-energy\, great sounding production\, sure to entertain every audience!</span></span><br />\n&nbsp\;<br />\n<span style="color:black\;"><span style="font-size:11.0pt\;">The guys of Let&#39\;s Hang On! cover all of the great Four Seasons Hits complete with that awesome falsetto supported by superb harmonies! You&#39\;ll hear: &quot\;Big Girls Dont Cry\,&quot\; &quot\;Walk Like A Man\,&quot\; &quot\;Sherry\,&quot\; &quot\;I&#39\;ve Got you under My Skin\,&quot\; &quot\;C&#39\;mon Marianne\,&quot\; &quot\;Can&#39\;t Take My Eyes Off of You\,&quot\; &quot\;December Of 1963\,&quot\; &quot\;Who Loves You\,&quot\; &quot\;My Eyes Adored You\,&quot\; &quot\;Lets Hang On\,&quot\; &quot\;Working my Way Back To You\,&quot\; &quot\;Stay\,&quot\; &quot\;Beggin&#39\;\,&quot\; &quot\;Dawn\,&quot\; Rag Doll\,&quot\; and &quot\;Big Man In Town.&quot\;</span></span><br />\n&nbsp\;<br />\n<span style="color:black\;"><span style="font-size:11.0pt\;">The girls get an opportunity to shine by performing some of the top songs of all time: &quot\;Locomotion\,&quot\; &quot\;Be my Baby\,&quot\; &quot\;Lollipop\,&quot\; &quot\;Downtown\,&quot\; &quot\;You Cant Hurry Love\,&quot\; &quot\;These Boots Were Made For Walkin\,&quot\; and &quot\;Since I Dont Have You.&quot\;</span></span><br />\n&nbsp\;<br />\n<span style="color:black\;"><span style="font-size:11.0pt\;">Don&rsquo\;t miss this exciting Celebrity Concert Series event. &nbsp\;</span></span><br />\n
LOCATION:Cox Performing Arts Center on Dixie State University campus 325 South 700 East\, St. George\, Utah.
UID:e.1117.4317
SEQUENCE:3
DTSTAMP:20260421T200643Z
URL:https://business.stgeorgechamber.com/events/details/celebrity-concert-series-let-s-hang-on-10-21-2013-4317
END:VEVENT

END:VCALENDAR
