BEGIN:VCALENDAR
VERSION:2.0
PRODID:-//ChamberMaster//Event Calendar 2.0//EN
METHOD:PUBLISH
X-PUBLISHED-TTL:P3D
REFRESH-INTERVAL:P3D
CALSCALE:GREGORIAN
BEGIN:VEVENT
DTSTART:20151112T023000Z
DTEND:20151112T050000Z
X-MICROSOFT-CDO-ALLDAYEVENT:FALSE
SUMMARY:Celebrity Concert Series: Juilliard Quartet
DESCRIPTION:Founded in 1946\, the ever-evolving Juilliard String Quartet has become a living American legend. Widely known as the "quintessential American string quartet\," the Juilliard has been recognized for the boldness of its interpretation of the classics\, with an equal and parallel tradition of championing the new - a vibrant combination of the familiar and the daring.
X-ALT-DESC;FMTTYPE=text/html:<span style="color: rgb(0\, 0\, 0)\; font-family: spinnaker\, sans-serif\; font-size: 14px\; line-height: normal\;">Founded in 1946\, the ever-evolving Juilliard String Quartet has become a living American legend. Widely known as the &quot\;quintessential American string quartet\,&quot\; the Juilliard has been recognized for the boldness of its interpretation of the classics\, with an equal and parallel tradition of championing the new - a vibrant combination of the familiar and the daring.&nbsp\;</span>
LOCATION:Cox Auditorium 225 S. 700 E. St. George
UID:e.1117.7261
SEQUENCE:3
DTSTAMP:20260420T051459Z
URL:https://business.stgeorgechamber.com/events/details/celebrity-concert-series-juilliard-quartet-11-11-2015-7261
END:VEVENT

END:VCALENDAR
