BEGIN:VCALENDAR
VERSION:2.0
PRODID:-//ChamberMaster//Event Calendar 2.0//EN
METHOD:PUBLISH
X-PUBLISHED-TTL:P3D
REFRESH-INTERVAL:P3D
CALSCALE:GREGORIAN
BEGIN:VEVENT
DTSTART:20140216T023000Z
DTEND:20140216T043000Z
X-MICROSOFT-CDO-ALLDAYEVENT:FALSE
SUMMARY:Celebrity Concert Series: Faure Piano Quartet
DESCRIPTION:The Faur  Quartett is today's leading European ensemble in this formation. The musicians founded the Faur  Quartett in 1995 taking this name out of appreciation for the composer's two piano quartet pieces. It did not take the quartet long to win top prizes and awards such as the Deutsche Schallplattenpreis and the Parkhouse Award in Great Britain. The Faur  Quartett has recently received the Echo Klassik Prize twice in a row for their consecutive CD releases of Brahms and Pop Songs\, the only ensemble in history to do so.
X-ALT-DESC;FMTTYPE=text/html:<span style="font-size:14px\;">The Faur&eacute\; Quartett is today&#39\;s leading European ensemble in this formation. The musicians founded the Faur&eacute\; Quartett in 1995 taking this name out of appreciation for the composer&#39\;s two piano quartet pieces. It did not take the quartet long to win top prizes and awards such as the Deutsche Schallplattenpreis and the Parkhouse Award in Great Britain. The Faur&eacute\; Quartett has recently received the Echo Klassik Prize twice in a row for their consecutive CD releases of Brahms and Pop Songs\, the only ensemble in history to do so.</span>
LOCATION:Cox Performing Arts Center on Dixie State University campus 325 South 700 East\, St. George\, Utah.
UID:e.1117.5007
SEQUENCE:3
DTSTAMP:20260421T154434Z
URL:https://business.stgeorgechamber.com/events/details/celebrity-concert-series-faure-piano-quartet-02-15-2014-5007
END:VEVENT

END:VCALENDAR
