BEGIN:VCALENDAR
VERSION:2.0
PRODID:-//ChamberMaster//Event Calendar 2.0//EN
METHOD:PUBLISH
X-PUBLISHED-TTL:P3D
REFRESH-INTERVAL:P3D
CALSCALE:GREGORIAN
BEGIN:VEVENT
DTSTART:20160106T023000Z
DTEND:20160106T050000Z
X-MICROSOFT-CDO-ALLDAYEVENT:FALSE
SUMMARY:Celebrity Concert Series: Ethan Bortnick
DESCRIPTION:Recognized by the Guinness World Records as "The World's Youngest Solo Musician to Head-line His Own Concert Tour\," 14-year-old Ethan Bortnick has been performing around the world\, raising over $40\,000\,000 for charities across the globe.\n\nHis highly successful nationally televised TV show\, The Power of Music\, has been the number one concert pledge show on PBS for 2014\, and is still running nationwide continuously\, winning multiple awards.
X-ALT-DESC;FMTTYPE=text/html:<p class="font_9" style="margin: 0px\; padding: 0px\; border: 0px\; outline: 0px\; vertical-align: baseline\; font-stretch: normal\; font-size: 14px\; line-height: normal\; font-family: spinnaker\, sans-serif\; color: rgb(255\, 255\, 255)\; background: transparent\;"><span class="color_1" style="margin: 0px\; padding: 0px\; border: 0px\; outline: 0px\; vertical-align: baseline\; color: rgb(0\, 0\, 0)\; background: transparent\;">Recognized by the Guinness World Records as &ldquo\;The World&rsquo\;s Youngest Solo Musician to Head-line His Own Concert Tour\,&rdquo\; 14-year-old Ethan Bortnick has been performing around the world\, raising over $40\,000\,000 for charities across the globe.</span></p>\n\n<p class="font_9" style="margin: 0px\; padding: 0px\; border: 0px\; outline: 0px\; vertical-align: baseline\; font-stretch: normal\; font-size: 14px\; line-height: normal\; font-family: spinnaker\, sans-serif\; color: rgb(255\, 255\, 255)\; background: transparent\;"><span class="color_1" style="margin: 0px\; padding: 0px\; border: 0px\; outline: 0px\; vertical-align: baseline\; color: rgb(0\, 0\, 0)\; background: transparent\;">His highly successful nationally televised TV show\, The Power of Music\, has been the number one concert pledge show on PBS for 2014\, and is still running nationwide continuously\, winning multiple awards.</span></p>\n
LOCATION:Cox Auditorium 225 S. 700 E. St. George
UID:e.1117.7264
SEQUENCE:3
DTSTAMP:20260420T031552Z
URL:https://business.stgeorgechamber.com/events/details/celebrity-concert-series-ethan-bortnick-01-05-2016-7264
END:VEVENT

END:VCALENDAR
