BEGIN:VCALENDAR
VERSION:2.0
PRODID:-//ChamberMaster//Event Calendar 2.0//EN
METHOD:PUBLISH
X-PUBLISHED-TTL:P3D
REFRESH-INTERVAL:P3D
CALSCALE:GREGORIAN
BEGIN:VEVENT
DTSTART:20141018T013000Z
DTEND:20141018T033000Z
X-MICROSOFT-CDO-ALLDAYEVENT:FALSE
SUMMARY:Celebrity Concert Series: Dallas Brass
DESCRIPTION:Founded in 1983 by Michael Levine\, the Dallas Brass has become one of America's foremost musical ensembles.  The Dallas Brass concert\, American Musical Journey\, incorporates a full complement of brass and percussion for a musical travelogue through American history.  From the time of George Washington to the present day - music will be selected from the masters - Copland\, Bernstein\, Gershwin\, Berlin\, John Williams\, Sousa\; and styles from Dixieland\, swing\, folk\, patriotic\, and pop.\n\n \n\nAccording to Mr. Levine\, "a Dallas Brass concert is intended for the entire family. Our goal is to entertain and enrich by playing great music."  The ensemble includes:  Michael Levine (director\, trombone)\, D.J. Barraclough (trumpet)\, Luis Miguel Araya (trumpet)\, Juan Berrios (french horn\, alto horn)\, Paul Carlson (tuba) and Ben Handel (drums/percussion.)\n\n \n\nIn addition to their solo engagements\, the Dallas Brass appears with symphony orchestras nationwide.  Symphonic credits include the Cincinnati Pops conducted by Erich Kunzel\, New York Pops conducted by Skitch Henderson\, and the Philly Pops conducted by Peter Nero.  The Dallas Brass has performed at Carnegie Hall\, the John F. Kennedy Center in Washington\, D.C.\, and has toured overseas to Europe and the Far East.  They have shared the stage with the late Bob Hope\, have performed for Presidents Gerald Ford and George H. W. Bush\, have appeared on the CBS "Early Show\," and their music has been used numerous times on the television show\, "The Young & The Restless."  The ensemble has released six recordings:  Debut\, Dallas Brass II\, A Merry Christmas with Brass\, Windborne\, Nutcracker and American Musical Journey.  \n\n \n\nThe Dallas Brass has strong dedication to working with young musicians. They have published two books of original small ensemble music for middle school and high students on up\, called Brass Groove and frequently go into schools to present clinics for band students.\n\n \n\nThis concert is made possible by the generous sponsorship of Spectrum Media.\n\n\n\nFor more information and to view the entire season schedule please visit our website www.celebrityconcertseries.com
X-ALT-DESC;FMTTYPE=text/html:<div class="font_8" style="margin: 0px\; padding: 0px\; border: 0px\; outline: 0px\; vertical-align: baseline\; font-size: 14px\; line-height: normal\; font-family: play\, sans-serif\; color: rgb(171\, 171\, 171)\; background: 0px 0px\;"><span style="font-size:14px\;"><span style="font-family:arial\;"><span style="color:#000000\;">Founded in 1983 by Michael Levine\, the Dallas Brass has become one of America&rsquo\;s foremost musical ensembles.&nbsp\; The Dallas Brass concert\, <strong>American Musical Journey</strong>\, incorporates a full complement of brass and percussion for a musical travelogue through American history.&nbsp\; From the time of George Washington to the present day - music will be selected from the masters - Copland\, Bernstein\, Gershwin\, Berlin\, John Williams\, Sousa\; and styles from Dixieland\, swing\, folk\, patriotic\, and pop.<br />\n&nbsp\;<br />\nAccording to Mr. Levine\, &ldquo\;a Dallas Brass concert is intended for the entire family. Our goal is to entertain and enrich by playing great music.&rdquo\;&nbsp\; The ensemble includes:&nbsp\; Michael Levine (director\, trombone)\, D.J. Barraclough (trumpet)\, Luis Miguel Araya (trumpet)\, Juan Berrios (french horn\, alto horn)\, Paul Carlson (tuba) and Ben Handel (drums/percussion.)<br />\n&nbsp\;<br />\nIn addition to their solo engagements\, the Dallas Brass appears with symphony orchestras nationwide.&nbsp\; Symphonic credits include the Cincinnati Pops conducted by Erich Kunzel\, New York Pops conducted by Skitch Henderson\, and the Philly Pops conducted by Peter Nero.&nbsp\; The Dallas Brass has performed at Carnegie Hall\, the John F. Kennedy Center in Washington\, D.C.\, and has toured overseas to Europe and the Far East.&nbsp\; They have shared the stage with the late Bob Hope\, have performed for Presidents Gerald Ford and George H. W. Bush\, have appeared on the CBS &ldquo\;Early Show\,&rdquo\; and their music has been used numerous times on the television show\, &ldquo\;The Young &amp\; The Restless.&rdquo\;&nbsp\; The ensemble has released six recordings:&nbsp\; Debut\, Dallas Brass II\, A Merry Christmas with Brass\, Windborne\, Nutcracker and American Musical Journey.&nbsp\;&nbsp\;<br />\n&nbsp\;<br />\nThe Dallas Brass has strong dedication to working with young musicians. They have published two books of original small ensemble music for middle school and high students on up\, called <em>Brass Groove </em>and frequently go into schools to present clinics for band students.<br />\n&nbsp\;<br />\nThis concert is made possible by the generous sponsorship of Spectrum Media.</span><br />\n<br />\n<span style="color:#000000\;">For more information and to view the entire season schedule please visit our website </span><a href="http://www.celebrityconcertseries.com/"><span style="color:#000000\;">www.celebrityconcertseries.com</span></a></span></span></div>\n
LOCATION:Cox Performing Arts Center on Dixie State University campus 325 South 700 East\, St. George\, Utah.
UID:e.1117.6083
SEQUENCE:3
DTSTAMP:20260421T030156Z
URL:https://business.stgeorgechamber.com/events/details/celebrity-concert-series-dallas-brass-10-17-2014-6083
END:VEVENT

END:VCALENDAR
