BEGIN:VCALENDAR
VERSION:2.0
PRODID:-//ChamberMaster//Event Calendar 2.0//EN
METHOD:PUBLISH
X-PUBLISHED-TTL:P3D
REFRESH-INTERVAL:P3D
CALSCALE:GREGORIAN
BEGIN:VEVENT
DTSTART:20140309T023000Z
DTEND:20140309T043000Z
X-MICROSOFT-CDO-ALLDAYEVENT:FALSE
SUMMARY:Celebrity Concert Series: BYU Men's Chorus
DESCRIPTION:The Brigham Young University Men's Chorus is thought to be the largest collegiate male choral organization in the country. Founded in 1958\, it has steadily grown to its present membership of 180 voices\, with over 400 annually auditioning for the ensemble. As a result of its versatile literature and engaging performance style\, the BYU Men's Chorus has captured the admiration of audiences throughout the Western United States and beyond.\n\n	Each year the choir includes a diverse and unique representation of the university community. Choir members originate not only from the United States and Canada\, but from countries throughout the world. Of the 180 members only a few are music majors with the remainder drawn from every college and department of the university. Over 2/3 of the chorus have served LDS missions throughout the world\, and a large number are planning to serve after their 19th birthdays.
X-ALT-DESC;FMTTYPE=text/html:<p>\n	<span style="font-size:14px\;">The Brigham Young University Men&#39\;s Chorus is thought to be the largest collegiate male choral organization in the country. Founded in 1958\, it has steadily grown to its present membership of 180 voices\, with over 400 annually auditioning for the ensemble. As a result of its versatile literature and engaging performance style\, the BYU Men&#39\;s Chorus has captured the admiration of audiences throughout the Western United States and beyond.</span></p>\n<p>\n	<span style="font-size:14px\;">Each year the choir includes a diverse and unique representation of the university community. Choir members originate not only from the United States and Canada\, but from countries throughout the world. Of the 180 members only a few are music majors with the remainder drawn from every college and department of the university. Over 2/3 of the chorus have served LDS missions throughout the world\, and a large number are planning to serve after their 19th birthdays.&nbsp\;</span></p>\n
LOCATION:Cox Performing Arts Center on Dixie State University campus 325 South 700 East\, St. George\, Utah.
UID:e.1117.5010
SEQUENCE:3
DTSTAMP:20260421T130047Z
URL:https://business.stgeorgechamber.com/events/details/celebrity-concert-series-byu-men-s-chorus-03-08-2014-5010
END:VEVENT

END:VCALENDAR
