BEGIN:VCALENDAR
VERSION:2.0
PRODID:-//ChamberMaster//Event Calendar 2.0//EN
METHOD:PUBLISH
X-PUBLISHED-TTL:P3D
REFRESH-INTERVAL:P3D
CALSCALE:GREGORIAN
BEGIN:VEVENT
DTSTART:20140201T023000Z
DTEND:20140201T043000Z
X-MICROSOFT-CDO-ALLDAYEVENT:FALSE
SUMMARY:Celebrity Concert Series: BYU Ballroom Dancers
DESCRIPTION:Series members' seating on first night only\n\n	Championship formation dancing\, breath-taking lifts and spins all performed in a seemingly endless stream of shimmering costumes no one does it better than the Ballroom Dance Company. The first Americans ever to win the prestigious British Formation Championships\, a feat they have repeated an unprecedented ten times\, the dancers have also competed in the World Formation Championships and have consistently earned top honors in the United States National Formation Championships.
X-ALT-DESC;FMTTYPE=text/html:<span style="font-family:arial\;"><span style="font-size:14px\;">Series members&#39\; seating on first night only</span></span>\n<p>\n	<span style="font-family:arial\;"><span style="font-size:14px\;">Championship formation dancing\, breath-taking lifts and spins&mdash\;all performed in a seemingly endless stream of shimmering costumes&mdash\;no one does it better than the Ballroom Dance Company. The first Americans ever to win the prestigious British Formation Championships\, a feat they have repeated an unprecedented ten times\, the dancers have also competed in the World Formation Championships and have consistently earned top honors in the United States National Formation Championships.&nbsp\;</span></span></p>\n
LOCATION:Cox Performing Arts Center on Dixie State University campus 325 South 700 East\, St. George\, Utah.
UID:e.1117.5004
SEQUENCE:3
DTSTAMP:20260421T154646Z
URL:https://business.stgeorgechamber.com/events/details/celebrity-concert-series-byu-ballroom-dancers-01-31-2014-5004
END:VEVENT

END:VCALENDAR
