BEGIN:VCALENDAR
VERSION:2.0
PRODID:-//ChamberMaster//Event Calendar 2.0//EN
METHOD:PUBLISH
X-PUBLISHED-TTL:P3D
REFRESH-INTERVAL:P3D
CALSCALE:GREGORIAN
BEGIN:VEVENT
DTSTART:20160206T023000Z
DTEND:20160207T050000Z
X-MICROSOFT-CDO-ALLDAYEVENT:FALSE
SUMMARY:Celebrity Concert Series: BYU Ballroom Dance Company
DESCRIPTION:Showcasing spectacular dance formations\, solo routines\, and ensemble numbers\, this group of talented dancers has developed friends and fans the world over.
X-ALT-DESC;FMTTYPE=text/html:<p class="font_9" style="margin: 0px\; padding: 0px\; border: 0px\; outline: 0px\; vertical-align: baseline\; font-stretch: normal\; font-size: 14px\; line-height: normal\; font-family: spinnaker\, sans-serif\; color: rgb(255\, 255\, 255)\; background: transparent\;"><span style="color: rgb(0\, 0\, 0)\; font-family: spinnaker\, sans-serif\; font-size: 14px\; line-height: normal\;">Showcasing spectacular dance formations\, solo routines\, and ensemble numbers\, this group of talented dancers has developed friends and fans the world over.</span></p>\n
LOCATION:Cox Auditorium 225 S. 700 E. St. George
UID:e.1117.7266
SEQUENCE:3
DTSTAMP:20260419T235009Z
URL:https://business.stgeorgechamber.com/events/details/celebrity-concert-series-byu-ballroom-dance-company-02-05-2016-7266
END:VEVENT

END:VCALENDAR
