BEGIN:VCALENDAR
VERSION:2.0
PRODID:-//ChamberMaster//Event Calendar 2.0//EN
METHOD:PUBLISH
X-PUBLISHED-TTL:P3D
REFRESH-INTERVAL:P3D
CALSCALE:GREGORIAN
BEGIN:VEVENT
DTSTART:20151021T013000Z
DTEND:20151022T040000Z
X-MICROSOFT-CDO-ALLDAYEVENT:FALSE
SUMMARY:Celebrity Concert Series: Bay Point Ballet "Dracula"
DESCRIPTION:Based on the novel by Bram Stoker and brought to life by Bruce Steivel's innovative choreography\, this haunting tale of Dracula's eternal search for the woman he loves will have you on the edge of your seat. \n\n\n\nIn case you were wondering... yes\, costumes are allowed and encouraged at all Dracula performances!
X-ALT-DESC;FMTTYPE=text/html:<span style="color: rgb(0\, 0\, 0)\; font-family: spinnaker\, sans-serif\; font-size: 14px\; line-height: normal\;">Based on the novel by Bram Stoker and brought to life by Bruce Steivel&#39\;s innovative choreography\, this haunting tale of Dracula&#39\;s eternal search for the woman he loves will have you on the edge of your seat.&nbsp\;</span><br style="color: rgb(0\, 0\, 0)\; font-family: spinnaker\, sans-serif\; font-size: 14px\; line-height: normal\;" />\n<br style="color: rgb(0\, 0\, 0)\; font-family: spinnaker\, sans-serif\; font-size: 14px\; line-height: normal\;" />\n<span style="color: rgb(0\, 0\, 0)\; font-family: spinnaker\, sans-serif\; font-size: 14px\; line-height: normal\;">In case you were wondering... yes\, costumes are allowed and encouraged at all Dracula performances!</span>
LOCATION:Cox Auditorium 225 S. 700 E. St. George
UID:e.1117.7259
SEQUENCE:3
DTSTAMP:20260420T065454Z
URL:https://business.stgeorgechamber.com/events/details/celebrity-concert-series-bay-point-ballet-dracula-10-20-2015-7259
END:VEVENT

END:VCALENDAR
