BEGIN:VCALENDAR
VERSION:2.0
PRODID:-//ChamberMaster//Event Calendar 2.0//EN
METHOD:PUBLISH
X-PUBLISHED-TTL:P3D
REFRESH-INTERVAL:P3D
CALSCALE:GREGORIAN
BEGIN:VEVENT
DTSTART:20151204T023000Z
DTEND:20151204T050000Z
X-MICROSOFT-CDO-ALLDAYEVENT:FALSE
SUMMARY:Celebrity Concert Series: Bar J Wranglers
DESCRIPTION:Some folks call it a western music show\; some call it a stand-up comedy show with masterful cowboy music\; others call it the best musical experience in the west.  Call it what you want to - the fact remains - The Bar J Wranglers from Jackson Hole\, Wyoming\, deliver some of the purest harmony\, best musicianship and funniest ranch humor ever seen on stage.
X-ALT-DESC;FMTTYPE=text/html:<p><span style="color:#000000\;"><span style="font-size:14px\;"><span style="font-family:arial\;">Some folks call it a western music show\; some call it a stand-up comedy show with masterful cowboy music\; others call it the best musical experience in the west.&nbsp\; Call it what you want to - the fact remains - The Bar J Wranglers from Jackson Hole\, Wyoming\, deliver some of the purest harmony\, best musicianship and funniest ranch humor ever seen on stage.&nbsp\;</span></span></span></p>\n
LOCATION:Cox Auditorium 225 S. 700 E. St. George
UID:e.1117.7371
SEQUENCE:3
DTSTAMP:20260420T031911Z
URL:https://business.stgeorgechamber.com/events/details/celebrity-concert-series-bar-j-wranglers-12-03-2015-7371
END:VEVENT

END:VCALENDAR
