BEGIN:VCALENDAR
VERSION:2.0
PRODID:-//ChamberMaster//Event Calendar 2.0//EN
METHOD:PUBLISH
X-PUBLISHED-TTL:P3D
REFRESH-INTERVAL:P3D
CALSCALE:GREGORIAN
BEGIN:VEVENT
DTSTART:20130817T180000Z
DTEND:20130817T220000Z
X-MICROSOFT-CDO-ALLDAYEVENT:FALSE
SUMMARY:Celebration of Womanhood: Open House\, Art Exhibit\, Fund Raiser.
DESCRIPTION:Featuring the relief sculpture of Pamala Bird\, "Feminine Archetypes Around the World and Through the Ages". http://www.PamBirdArt.com Silent Auction benefiting Hope Pregnancy Care Center Free Chair Massages & Reflexology Treatments\, Refreshments\, Drawings\, Pre-Natal Massage Demonstrations\, Alternative Health Booths. Reservation suggested for reflexology and seat chair massage call 435-215- 3480 for details.
X-ALT-DESC;FMTTYPE=text/html:Featuring the relief sculpture of Pamala Bird\, &quot\;Feminine Archetypes Around the World and Through the Ages&quot\;. http://www.PamBirdArt.com Silent Auction benefiting Hope Pregnancy Care Center Free Chair Massages &amp\; Reflexology Treatments\, Refreshments\, Drawings\, Pre-Natal Massage Demonstrations\, Alternative Health Booths. Reservation suggested for reflexology and seat chair massage call 435-215- 3480 for details. 
LOCATION:At StGeorgeMassage.com\, suite 200 in the Ivory Homes building\, 840 East Brigham Road Suite 200 St George UT\, 84790
UID:e.1117.4247
SEQUENCE:3
DTSTAMP:20260421T233406Z
URL:https://business.stgeorgechamber.com/events/details/celebration-of-womanhood-open-house-art-exhibit-fund-raiser-08-17-2013-4247
END:VEVENT

END:VCALENDAR
