BEGIN:VCALENDAR
VERSION:2.0
PRODID:-//ChamberMaster//Event Calendar 2.0//EN
METHOD:PUBLISH
X-PUBLISHED-TTL:P3D
REFRESH-INTERVAL:P3D
CALSCALE:GREGORIAN
BEGIN:VEVENT
DTSTART:20150926T010000Z
DTEND:20150926T021500Z
X-MICROSOFT-CDO-ALLDAYEVENT:FALSE
SUMMARY:Celebration of Abilities
DESCRIPTION:The City of St. George and Red Rock Center for Independence proudly present a Celebration of Abilities!  Enjoy an outstanding variety show featuring performers with many different abilities and talents.
X-ALT-DESC;FMTTYPE=text/html:The City of St. George and Red Rock Center for Independence proudly present a Celebration of Abilities! &nbsp\;Enjoy an outstanding variety show featuring performers with many different abilities and talents.
LOCATION:The Electric Theatre Center 68 E. Tabernacle St. George\, UT
UID:e.1117.7117
SEQUENCE:3
DTSTAMP:20260420T084820Z
URL:https://business.stgeorgechamber.com/events/details/celebration-of-abilities-09-25-2015-7117
END:VEVENT

END:VCALENDAR
