BEGIN:VCALENDAR
VERSION:2.0
PRODID:-//ChamberMaster//Event Calendar 2.0//EN
METHOD:PUBLISH
X-PUBLISHED-TTL:P3D
REFRESH-INTERVAL:P3D
CALSCALE:GREGORIAN
BEGIN:VEVENT
DTSTART:20150327T150000Z
DTEND:20150327T200000Z
X-MICROSOFT-CDO-ALLDAYEVENT:FALSE
SUMMARY:Celebrating Wellness
DESCRIPTION:Please join us for the 6th annual Celebrating Wellness expo. There will be over 50 resource booths\, health screenings\, variety show\, AARP caregiver workshop and BBQ lunch (donations accepted).
X-ALT-DESC;FMTTYPE=text/html:Please join us for the 6th annual Celebrating Wellness expo. There will be over 50 resource booths\, health screenings\, variety show\, AARP caregiver workshop and BBQ lunch (donations accepted).
LOCATION:245 North 200 West
UID:e.1117.6359
SEQUENCE:3
DTSTAMP:20260420T190643Z
URL:https://business.stgeorgechamber.com/events/details/celebrating-wellness-03-27-2015-6359
END:VEVENT

END:VCALENDAR
