BEGIN:VCALENDAR
VERSION:2.0
PRODID:-//ChamberMaster//Event Calendar 2.0//EN
METHOD:PUBLISH
X-PUBLISHED-TTL:P3D
REFRESH-INTERVAL:P3D
CALSCALE:GREGORIAN
BEGIN:VEVENT
DTSTART:20140614T020000Z
DTEND:20140615T040000Z
X-MICROSOFT-CDO-ALLDAYEVENT:FALSE
SUMMARY:Cedar City PRCA/WPRA Championship Rodeo
DESCRIPTION:If you like extreme sports ? daring acts that take real courage and grit ? exciting moments of heart-stopping anticipation ? and if you have an appreciation for hard work and well-earned rewards\, then make sure that you?re in your seat at 8:00 p.m. on June 13 and 14 at the Cedar City\, Utah Rodeo Arena. You will see ropers\, bulldoggers\, and barrel racers\, plus the Diamond G Rodeos spectacular A-Team of bucking bulls and horses! Come and encourage the PRCA cowboys and cowgirls on their journey to the ?gold? ? at the 2014 Cedar City\, Utah PRCA Championship Rodeo!
X-ALT-DESC;FMTTYPE=text/html:If you like extreme sports ? daring acts that take real courage and grit ? exciting moments of heart-stopping anticipation ? and if you have an appreciation for hard work and well-earned rewards\, then make sure that you?re in your seat at 8:00 p.m. on June 13 and 14 at the Cedar City\, Utah Rodeo Arena. You will see ropers\, bulldoggers\, and barrel racers\, plus the Diamond G Rodeos spectacular A-Team of bucking bulls and horses! Come and encourage the PRCA cowboys and cowgirls on their journey to the ?gold? ? at the 2014 Cedar City\, Utah PRCA Championship Rodeo!
LOCATION:Cedar City Rodeo Arena
UID:e.1117.5176
SEQUENCE:3
DTSTAMP:20260423T085255Z
URL:https://business.stgeorgechamber.com/events/details/cedar-city-prca-wpra-championship-rodeo-06-13-2014-5176
END:VEVENT

END:VCALENDAR
