BEGIN:VCALENDAR
VERSION:2.0
PRODID:-//ChamberMaster//Event Calendar 2.0//EN
METHOD:PUBLISH
X-PUBLISHED-TTL:P3D
REFRESH-INTERVAL:P3D
CALSCALE:GREGORIAN
BEGIN:VEVENT
DTSTART:20160408T013000Z
DTEND:20160412T040000Z
X-MICROSOFT-CDO-ALLDAYEVENT:FALSE
SUMMARY:Cats (The musical)
DESCRIPTION:Pine View High School Theatre Department proudly presents Andrew Lloys Webber's "Cats" at the historic Electric Theatre. Come share the fun with your entire family!
X-ALT-DESC;FMTTYPE=text/html:Pine View High School Theatre Department proudly presents Andrew Lloys Webber&#39\;s &quot\;Cats&quot\; at the historic Electric Theatre. Come share the fun with your entire family!
LOCATION:Electric Theatre 68 E. Tabernacle St. George\, Utah
UID:e.1117.8537
SEQUENCE:3
DTSTAMP:20260419T201119Z
URL:https://business.stgeorgechamber.com/events/details/cats-the-musical-04-07-2016-8537
END:VEVENT

END:VCALENDAR
