BEGIN:VCALENDAR
VERSION:2.0
PRODID:-//ChamberMaster//Event Calendar 2.0//EN
METHOD:PUBLISH
X-PUBLISHED-TTL:P3D
REFRESH-INTERVAL:P3D
CALSCALE:GREGORIAN
BEGIN:VEVENT
DTSTART:20150530T170000Z
DTEND:20150530T200000Z
X-MICROSOFT-CDO-ALLDAYEVENT:FALSE
SUMMARY:Cat's Meow Fashion Show & Luncheon
DESCRIPTION:
X-ALT-DESC;FMTTYPE=text/html:
LOCATION:SunRiver Ballroom
UID:e.1117.6451
SEQUENCE:3
DTSTAMP:20260420T173425Z
URL:https://business.stgeorgechamber.com/events/details/cat-s-meow-fashion-show-luncheon-05-30-2015-6451
END:VEVENT

END:VCALENDAR
