BEGIN:VCALENDAR
VERSION:2.0
PRODID:-//ChamberMaster//Event Calendar 2.0//EN
METHOD:PUBLISH
X-PUBLISHED-TTL:P3D
REFRESH-INTERVAL:P3D
CALSCALE:GREGORIAN
BEGIN:VEVENT
DTSTART:20130712T150000Z
DTEND:20130712T170000Z
X-MICROSOFT-CDO-ALLDAYEVENT:FALSE
SUMMARY:Career Fair
DESCRIPTION:Come to the Career Fair at Stevens-Henager College! It is free to attend and will go from 9 to 11 am at the St. George Campus located at 720 S. River Road across from Harmons.  Bring copies of your resume and be prepared to meet some good employers in the community.
X-ALT-DESC;FMTTYPE=text/html:Come to the Career Fair at Stevens-Henager College! It is free to attend and will go from 9 to 11 am at the St. George Campus located at 720 S. River Road across from Harmons. &nbsp\;Bring copies of your resume and be prepared to meet some good employers in the community.
LOCATION:720 S. River Road Suite C-130
UID:e.1117.4145
SEQUENCE:3
DTSTAMP:20260422T005953Z
URL:https://business.stgeorgechamber.com/events/details/career-fair-07-12-2013-4145
END:VEVENT

END:VCALENDAR
