BEGIN:VCALENDAR
VERSION:2.0
PRODID:-//ChamberMaster//Event Calendar 2.0//EN
METHOD:PUBLISH
X-PUBLISHED-TTL:P3D
REFRESH-INTERVAL:P3D
CALSCALE:GREGORIAN
BEGIN:VEVENT
DTSTART:20130709T010000Z
DTEND:20130709T030000Z
X-MICROSOFT-CDO-ALLDAYEVENT:FALSE
SUMMARY:Care Centennial Birthday Party
DESCRIPTION:On July 8th\, 1913\, Washington County Hospital open its doors as the first hospital in Washington County. Join us as we celebrate 100 years of caring with a community birthday party including family games and activities\, birthday cake\, fireworks and more! For those participating in Walk Washington County\, the group will meet at 8 p.m. at the tabernacle. Pick up a special new decoration for your hiking stick\, and make sure you have a "100 year" medallion. (No hiking sticks will be given at this walk\, but new participants can get their stick at the Enterprise walk in August).
X-ALT-DESC;FMTTYPE=text/html:<p>\n	<span style="font-size:14px\;"><span style="font-family: arial\;">On July 8<sup>th</sup>\, 1913\, Washington County Hospital open its doors as the first hospital in Washington County. Join us as we celebrate 100 years of caring with a community birthday party including family games and activities\, birthday cake\, fireworks and more! For those participating in Walk Washington County\, the group will meet at 8 p.m. at the tabernacle. Pick up a special new decoration for your hiking stick\, and make sure you have a &ldquo\;100 year&rdquo\; medallion. (No hiking sticks will be given at this walk\, but new participants can get their stick at the Enterprise walk in August).</span></span></p>\n
LOCATION:St. George Town Square
UID:e.1117.3882
SEQUENCE:3
DTSTAMP:20260422T011200Z
URL:https://business.stgeorgechamber.com/events/details/care-centennial-birthday-party-07-08-2013-3882
END:VEVENT

END:VCALENDAR
