BEGIN:VCALENDAR
VERSION:2.0
PRODID:-//ChamberMaster//Event Calendar 2.0//EN
METHOD:PUBLISH
X-PUBLISHED-TTL:P3D
REFRESH-INTERVAL:P3D
CALSCALE:GREGORIAN
BEGIN:VEVENT
DTSTART:20131012T160000Z
DTEND:20131012T190000Z
X-MICROSOFT-CDO-ALLDAYEVENT:FALSE
SUMMARY:Car Show
DESCRIPTION:The Meadows and Spilsbury Mortuary are hosting a free car show!   Free to the public\, free hot dogs\, chips and drinks provided by The Meadows.
X-ALT-DESC;FMTTYPE=text/html:<span style="font-family:calibri\,sans-serif\;"><span style="font-size:11.0pt\;">The Meadows and Spilsbury Mortuary are hosting a free car show! &nbsp\; Free to the public\, free hot dogs\, chips and drinks provided by The Meadows.&nbsp\;</span></span>
LOCATION:The Meadows (950 S. 400 E..)
UID:e.1117.4315
SEQUENCE:3
DTSTAMP:20260421T213108Z
URL:https://business.stgeorgechamber.com/events/details/car-show-10-12-2013-4315
END:VEVENT

END:VCALENDAR
