BEGIN:VCALENDAR
VERSION:2.0
PRODID:-//ChamberMaster//Event Calendar 2.0//EN
METHOD:PUBLISH
X-PUBLISHED-TTL:P3D
REFRESH-INTERVAL:P3D
CALSCALE:GREGORIAN
BEGIN:VEVENT
DTSTART:20131116T170000Z
DTEND:20131117T010000Z
X-MICROSOFT-CDO-ALLDAYEVENT:FALSE
SUMMARY:Candy Cane Lane Boutique
DESCRIPTION:Come out to the WCCC and enjoy the magic of Christmas at the Candy Cane Lane Boutique \n\nVendors | Candy Cane Cafe | Live Entertainment | Santa Visits | Christmas Music | Prizes | & More!
X-ALT-DESC;FMTTYPE=text/html:<span style="color: rgb(0\, 0\, 0)\; font-family: Helvetica\, Arial\, sans-serif\; font-size: small\;">Come out to the WCCC and enjoy the magic of Christmas at the Candy Cane Lane Boutique&nbsp\;</span><br style="color: rgb(0\, 0\, 0)\; font-family: Helvetica\, Arial\, sans-serif\; font-size: small\;" />\n<span style="color: rgb(0\, 0\, 0)\; font-family: Helvetica\, Arial\, sans-serif\; font-size: small\;">Vendors | Candy Cane Cafe | Live Entertainment | Santa Visits | Christmas Music | Prizes | &amp\; More!</span>
LOCATION:350 N. Community Center Drive Washington\, UT 84780
UID:e.1117.4264
SEQUENCE:3
DTSTAMP:20260421T194754Z
URL:https://business.stgeorgechamber.com/events/details/candy-cane-lane-boutique-11-16-2013-4264
END:VEVENT

END:VCALENDAR
