BEGIN:VCALENDAR
VERSION:2.0
PRODID:-//ChamberMaster//Event Calendar 2.0//EN
METHOD:PUBLISH
X-PUBLISHED-TTL:P3D
REFRESH-INTERVAL:P3D
CALSCALE:GREGORIAN
BEGIN:VEVENT
DTSTART:20150314T200000Z
DTEND:20150315T033000Z
X-MICROSOFT-CDO-ALLDAYEVENT:FALSE
SUMMARY:BYU Young Abassadors
DESCRIPTION:Since entering the world stage at Japan's Expo '70\, the Young Ambassadors have performed their vibrant blend of song and dance in 56 nations of the world. The Young Ambassadors combine contemporary music and dance for a fast-paced showcase of American musical theatre. Chosen through and extensive selection process\, these talented performers offer a fresh view of America's culture and ways of life.
X-ALT-DESC;FMTTYPE=text/html:Since entering the world stage at Japan&#39\;s Expo &#39\;70\, the Young Ambassadors have performed their vibrant blend of song and dance in 56 nations of the world. The Young Ambassadors combine contemporary music and dance for a fast-paced showcase of American musical theatre. Chosen through and extensive selection process\, these talented performers offer a fresh view of America&#39\;s culture and ways of life.
LOCATION:Cox Performing Arts Center
UID:e.1117.6213
SEQUENCE:3
DTSTAMP:20260420T203401Z
URL:https://business.stgeorgechamber.com/events/details/byu-young-abassadors-03-14-2015-6213
END:VEVENT

END:VCALENDAR
