BEGIN:VCALENDAR
VERSION:2.0
PRODID:-//ChamberMaster//Event Calendar 2.0//EN
METHOD:PUBLISH
X-PUBLISHED-TTL:P3D
REFRESH-INTERVAL:P3D
CALSCALE:GREGORIAN
BEGIN:VEVENT
DTSTART:20140927T013000Z
DTEND:20141108T190000Z
X-MICROSOFT-CDO-ALLDAYEVENT:FALSE
SUMMARY:Brigham's Playhouse presents "First Freedom"
DESCRIPTION:"First Freedom" is a powerful musical that tells the story of Thomas Jefferson and James Madison's fight for humankind's most important freedom: freedom of religion. The music is powerful and the lessons learned are poignant and life-changing. Come and enjoy this important story from America's past.
X-ALT-DESC;FMTTYPE=text/html:&quot\;First Freedom&quot\; is a powerful musical that tells the story of Thomas Jefferson and James Madison&#39\;s fight for humankind&#39\;s most important freedom: freedom of religion. The music is powerful and the lessons learned are poignant and life-changing. Come and enjoy this important story from America&#39\;s past.
LOCATION:Brigham's Playhouse 25 North 300 West Washington\, Ut
UID:e.1117.6147
SEQUENCE:3
DTSTAMP:20260421T011722Z
URL:https://business.stgeorgechamber.com/events/details/brigham-s-playhouse-presents-first-freedom-09-26-2014-6147
END:VEVENT

END:VCALENDAR
