BEGIN:VCALENDAR
VERSION:2.0
PRODID:-//ChamberMaster//Event Calendar 2.0//EN
METHOD:PUBLISH
X-PUBLISHED-TTL:P3D
REFRESH-INTERVAL:P3D
CALSCALE:GREGORIAN
BEGIN:VEVENT
DTSTART:20140717T013000Z
DTEND:20140803T033000Z
X-MICROSOFT-CDO-ALLDAYEVENT:FALSE
SUMMARY:Brigham's Playhouse "Fill the Gap"
DESCRIPTION:We are so sad to see our production of "The Sound of Music" having to close early\, we will miss it dearly. However "When God closes a door\, he will always open a window."  Brigham's Playhouse is proud to present "The Sound of Broadway Music"\, a musical benefit concert. Performing July 16th- August 2nd\, Tuesday\, Thursday\, and Saturday Nights at &\;30 p.m. Join us for these night's filled with some of your favorite Broadway tunes performed by the members of the Southern Utah Theatre Community\, and the Company of Brigham's Playhouse.  We also bring you "Humors\, Improvisational Theatre" Comedy Improv Nights! Performing July 16th- August 2nd\, Wednesday and Friday nights at 7:30 p.m.\, and Saturday's at 2:30 p.m. Join us these nights for some incredibly fun and family friendly Improv! Also performed by the members of the Southern Utah Theatre Community\, and the Company of Brigham's Playhouse.  Help us fill the gap between "The Sound of Music" and "Peter Pan\, a new musical" All tickets are by donation ($12 recommended) And all proceeds will go towards all upcoming and future productions here at Brigham's Playhouse! We can't do this without you! For more information\, call 435-251-8000\, and check us out online at www.brighamsplayhouse.com.
X-ALT-DESC;FMTTYPE=text/html:We are so sad to see our production of &quot\;The Sound of Music&quot\; having to close early\, we will miss it dearly. However &quot\;When God closes a door\, he will always open a window.&quot\;&nbsp\; Brigham&#39\;s Playhouse is proud to present &quot\;The Sound of Broadway Music&quot\;\, a musical benefit concert. Performing July 16th- August 2nd\, Tuesday\, Thursday\, and Saturday Nights at &amp\;\;30 p.m. Join us for these night&#39\;s filled with some of your favorite Broadway tunes performed by the members of the Southern Utah Theatre Community\, and the Company of Brigham&#39\;s Playhouse.&nbsp\; We also bring you &quot\;Humors\, Improvisational Theatre&quot\; Comedy Improv Nights! Performing July 16th- August 2nd\, Wednesday and Friday nights at 7:30 p.m.\, and Saturday&#39\;s at 2:30 p.m. Join us these nights for some incredibly fun and family friendly Improv! Also performed by the members of the Southern Utah Theatre Community\, and the Company of Brigham&#39\;s Playhouse.&nbsp\; Help us fill the gap between &quot\;The Sound of Music&quot\; and &quot\;Peter Pan\, a new musical&quot\; All tickets are by donation ($12 recommended) And all proceeds will go towards all upcoming and future productions here at Brigham&#39\;s Playhouse! We can&#39\;t do this without you! For more information\, call 435-251-8000\, and check us out online at www.brighamsplayhouse.com.
LOCATION:Brigham's Playhouse 25 N. 300 W. Washington\, UT 84780
UID:e.1117.5889
SEQUENCE:3
DTSTAMP:20260421T055428Z
URL:https://business.stgeorgechamber.com/events/details/brigham-s-playhouse-fill-the-gap-07-16-2014-5889
END:VEVENT

END:VCALENDAR
