BEGIN:VCALENDAR
VERSION:2.0
PRODID:-//ChamberMaster//Event Calendar 2.0//EN
METHOD:PUBLISH
X-PUBLISHED-TTL:P3D
REFRESH-INTERVAL:P3D
CALSCALE:GREGORIAN
BEGIN:VEVENT
DTSTART:20150814T010000Z
DTEND:20150814T032000Z
X-MICROSOFT-CDO-ALLDAYEVENT:FALSE
SUMMARY:Bridge to Terabithia at Brigham's Playhouse
DESCRIPTION:The adored novel brought to life in the new musical Bridge to Terabithia is opening at Southern Utah's most intimate theatre on August 4th and running through August 29th.  \n\nJesse dreams of becoming someone special.  Leslie\, the new girl in town\, loves to read about fantasy.   When the two become friends they create something magical. For fans both new and old\, this adored story delights in its journey to the wondrous kingdom of Terabithia.
X-ALT-DESC;FMTTYPE=text/html:<span style="font-family:calibri"><span style="font-size:11.0pt">The adored novel brought to life in the new musical <em>Bridge to Terabithia </em>is opening at Southern Utah&rsquo\;s most intimate theatre on August 4<sup>th</sup> and running through August 29<sup>th</sup>. &nbsp\;<br />\nJesse dreams of becoming someone special. &nbsp\;Leslie\, the new girl in town\, loves to read about fantasy. &nbsp\; When the two become friends they create something magical. For fans both new and old\, this adored story delights in its journey to the wondrous kingdom of Terabithia.</span></span>
LOCATION:Brigham's Playhouse 25 North 300 West--Washington\, Ut
UID:e.1117.7026
SEQUENCE:3
DTSTAMP:20260420T103557Z
URL:https://business.stgeorgechamber.com/events/details/bridge-to-terabithia-at-brigham-s-playhouse-08-13-2015-7026
END:VEVENT

END:VCALENDAR
