BEGIN:VCALENDAR
VERSION:2.0
PRODID:-//ChamberMaster//Event Calendar 2.0//EN
METHOD:PUBLISH
X-PUBLISHED-TTL:P3D
REFRESH-INTERVAL:P3D
CALSCALE:GREGORIAN
BEGIN:VEVENT
DTSTART:20160819T170000Z
DTEND:20160820T030000Z
X-MICROSOFT-CDO-ALLDAYEVENT:FALSE
SUMMARY:Bridal Showcase at The Falls Event Center
DESCRIPTION:Please join us for a day planned just for you!  We will have vendors available to help you with every aspect of your wedding.\n\n\n\nLet us help you bring your dreams to life!
X-ALT-DESC;FMTTYPE=text/html:Please join us for a day planned just for you! &nbsp\;We will have vendors available to help you with every aspect of your wedding.<br />\n<br />\nLet us help you bring your dreams to life!
LOCATION:The Falls Event Center 170 South Mall Drive St. George\, Utah
UID:e.1117.9642
SEQUENCE:3
DTSTAMP:20260421T083821Z
URL:https://business.stgeorgechamber.com/events/details/bridal-showcase-at-the-falls-event-center-08-19-2016-9642
END:VEVENT

END:VCALENDAR
