BEGIN:VCALENDAR
VERSION:2.0
PRODID:-//ChamberMaster//Event Calendar 2.0//EN
METHOD:PUBLISH
X-PUBLISHED-TTL:P3D
REFRESH-INTERVAL:P3D
CALSCALE:GREGORIAN
BEGIN:VEVENT
DTSTART:20150501T020000Z
DTEND:20150503T040000Z
X-MICROSOFT-CDO-ALLDAYEVENT:FALSE
SUMMARY:Brian Regan in Concert at Tuacahn
DESCRIPTION:American's favorite comedian returns again to Tuacahn by popular demand!\n\nCritics and peers agree: Brian Regan has distinguished himself as one of the premier comedians in the country. The perfect balance of sophisticated writing and physicality\, Brian fills theaters nationwide with fervent fans that span generations.\n\nReleasing two critically acclaimed hour Comedy Central specials and DVD's in as many years 2008's "The Epitome of Hyperbole\," and 2007's "Brian Regan Standing Up" Brian has set a standard of excellence that others continually try to follow.\n\nBrian's non-stop theater tour has visited more than 80 cities each year since 2005 and continues through 2012. It is the quality of his material\, relatable to a wide audience and revered by his peers\, which continues to grow Brian's fan base. In March Brian broke the record for the most consecutive shows by a comedian at Abravanal Hall in Salt Lake City with five sold out performances. The previous record was four shows set by Jerry Seinfeld in 2005.\n\nWith his first appearance on The Late Show with David Letterman in 1995\, Brian solidified his place on the show and has now made more than 20 appearances. He also includes regular visits with Conan O'Brien on his schedule.\n\nA dorm room favorite\, Brian's 1997 CD\, "Brian Regan Live\," has sold more than 150\,000 copies and consistently charts in iTunes Top Ten Comedy Albums. Brian's 2000 "Comedy Central Presents" special continues to be a top viewer choice and Brian's independently released 2004 DVD\, "I Walked on the Moon\," is available at his website.
X-ALT-DESC;FMTTYPE=text/html:<p><strong>American&#39\;s favorite comedian returns again to Tuacahn by popular demand!</strong></p>\n\n<p>Critics and peers agree: Brian Regan has distinguished himself as one of the premier comedians in the country. The perfect balance of sophisticated writing and physicality\, Brian fills theaters nationwide with fervent fans that span generations.</p>\n\n<p>Releasing two critically acclaimed hour Comedy Central specials and DVD&#39\;s in as many years&ndash\;2008&#39\;s &quot\;The Epitome of Hyperbole\,&quot\; and 2007&#39\;s &quot\;Brian Regan Standing Up&quot\;&ndash\;Brian has set a standard of excellence that others continually try to follow.</p>\n\n<p>Brian&#39\;s non-stop theater tour has visited more than 80 cities each year since 2005 and continues through 2012. It is the quality of his material\, relatable to a wide audience and revered by his peers\, which continues to grow Brian&#39\;s fan base. In March Brian broke the record for the most consecutive shows by a comedian at Abravanal Hall in Salt Lake City with five sold out performances. The previous record was four shows set by Jerry Seinfeld in 2005.</p>\n\n<p>With his first appearance on The Late Show with David Letterman in 1995\, Brian solidified his place on the show and has now made more than 20 appearances. He also includes regular visits with Conan O&#39\;Brien on his schedule.</p>\n\n<p>A dorm room favorite\, Brian&#39\;s 1997 CD\, &quot\;Brian Regan Live\,&quot\; has sold more than 150\,000 copies and consistently charts in iTunes Top Ten Comedy Albums. Brian&#39\;s 2000 &quot\;Comedy Central Presents&quot\; special continues to be a top viewer choice and Brian&#39\;s independently released 2004 DVD\, &quot\;I Walked on the Moon\,&quot\; is available at his website.</p>\n
LOCATION:Tuacahn Amphitheater 1100 Tuacahn Drive Ivins
UID:e.1117.6314
SEQUENCE:3
DTSTAMP:20260420T173149Z
URL:https://business.stgeorgechamber.com/events/details/brian-regan-in-concert-at-tuacahn-04-30-2015-6314
END:VEVENT

END:VCALENDAR
