BEGIN:VCALENDAR
VERSION:2.0
PRODID:-//ChamberMaster//Event Calendar 2.0//EN
METHOD:PUBLISH
X-PUBLISHED-TTL:P3D
REFRESH-INTERVAL:P3D
CALSCALE:GREGORIAN
BEGIN:VEVENT
DTSTART:20150425T140000Z
DTEND:20150425T180000Z
X-MICROSOFT-CDO-ALLDAYEVENT:FALSE
SUMMARY:Breathe Easy 5k
DESCRIPTION:Come enjoy the 5th Annual Breathe Easy 5k Run/Walk! This Family Fun Run is the perfect way to start your day. A beautiful and scenic spring run/walk on the trails that wind along the Virgin River in St. George. The Breathe Easy 5k is sponsored by the Southwest Utah Public Health Foundation\, which promotes wellness and healthy living in St. George and surrounding communities.
X-ALT-DESC;FMTTYPE=text/html:Come enjoy the 5th Annual Breathe Easy 5k Run/Walk! This Family Fun Run is the perfect way to start your day. A beautiful and scenic spring run/walk on the trails that wind along the Virgin River in St. George. The Breathe Easy 5k is sponsored by the Southwest Utah Public Health Foundation\, which promotes wellness and healthy living in St. George and surrounding communities.&nbsp\;
LOCATION:Crosby Confluence Park 1850 S. Convention Center Dr. St. George\, UT
UID:e.1117.6403
SEQUENCE:3
DTSTAMP:20260420T172731Z
URL:https://business.stgeorgechamber.com/events/details/breathe-easy-5k-04-25-2015-6403
END:VEVENT

END:VCALENDAR
