BEGIN:VCALENDAR
VERSION:2.0
PRODID:-//ChamberMaster//Event Calendar 2.0//EN
METHOD:PUBLISH
X-PUBLISHED-TTL:P3D
REFRESH-INTERVAL:P3D
CALSCALE:GREGORIAN
BEGIN:VEVENT
DTSTART:20140205T020000Z
DTEND:20140205T050000Z
X-MICROSOFT-CDO-ALLDAYEVENT:FALSE
SUMMARY:BransonFest Out West-Branson is Fun
DESCRIPTION:The Mesquite Resort Association and Free Spirit Vacations and Events are pleased to be bringing a little bit of Branson to Mesquite\, NV. Branson\, Missouri is the Live Music Capital of the World and its popularity began during the early 1990's and has continued to grow as a destination that offers a great variety of entertainment and talent. Now that entertainment and talent will be out west in Mesquite\, Nevada. As part of the four-day festival "Mesquite's BransonFest Out West"\, Branson entertainers will delight audiences at the CasaBlanca Resort. But that's not all. Two matinee shows will feature inspiring entertainers\, all over 60 years young. There will also be other events\, such as fitness activities\, a fashion show and MORE!
X-ALT-DESC;FMTTYPE=text/html:<p>\n	<span style="font-size:14px\;"><span style="font-family: arial\;">The Mesquite Resort Association and Free Spirit Vacations and Events are pleased to be bringing a little bit of Branson to Mesquite\, NV. Branson\, Missouri is the Live Music Capital of the World and its popularity began during the early 1990&#39\;s and has continued to grow as a destination that offers a great variety of entertainment and talent. Now that entertainment and talent will be out west in Mesquite\, Nevada. As part of the four-day festival &quot\;Mesquite&#39\;s BransonFest Out West&quot\;\, Branson entertainers will delight audiences at the CasaBlanca Resort. But that&#39\;s not all. Two matinee shows will feature inspiring entertainers\, all over 60 years young. There will also be other events\, such as fitness activities\, a fashion show and MORE!</span></span></p>\n
LOCATION:CasaBlanca Event Center at the CasaBlanca Resort 950 W. Mesquite Blvd\, Mesquite
UID:e.1117.5020
SEQUENCE:3
DTSTAMP:20260421T142407Z
URL:https://business.stgeorgechamber.com/events/details/bransonfest-out-west-branson-is-fun-02-04-2014-5020
END:VEVENT

END:VCALENDAR
