BEGIN:VCALENDAR
VERSION:2.0
PRODID:-//ChamberMaster//Event Calendar 2.0//EN
METHOD:PUBLISH
X-PUBLISHED-TTL:P3D
REFRESH-INTERVAL:P3D
CALSCALE:GREGORIAN
BEGIN:VEVENT
DTSTART:20150328T150000Z
DTEND:20150328T210000Z
X-MICROSOFT-CDO-ALLDAYEVENT:FALSE
SUMMARY:Bowl for Kids Sake
DESCRIPTION:Comic Bowl is your opportunity to dress as your favorite Comic\, Movie\, or Science-Fiction character and bowl with your friends in our largest annual fundraiser. There will be costume contests\, photo-booths\, prizes\, and incentives to raise money for our organization. As always\, free food and drinks will be provided.
X-ALT-DESC;FMTTYPE=text/html:<div style="margin: 0px\; padding: 0px 0px 18px\; outline: 0px\; font-size: 12px\; vertical-align: baseline\; font-family: Verdana\, Arial\, Helvetica\, sans-serif\; line-height: 18px\;"><span style="font-size:14px\;"><span style="font-family:arial\;">Comic Bowl is your opportunity to dress as your favorite&nbsp\;Comic\, Movie\, or Science-Fiction&nbsp\;character&nbsp\;and bowl with your friends in our largest annual fundraiser. There will be costume contests\, photo-booths\, prizes\, and incentives to raise money for our organization. As always\, free&nbsp\;food and drinks will be provided.</span></span></div>\n
LOCATION:Dixie Bowl 146 East City Center St. George
UID:e.1117.6288
SEQUENCE:3
DTSTAMP:20260420T190828Z
URL:https://business.stgeorgechamber.com/events/details/bowl-for-kids-sake-03-28-2015-6288
END:VEVENT

END:VCALENDAR
