BEGIN:VCALENDAR
VERSION:2.0
PRODID:-//ChamberMaster//Event Calendar 2.0//EN
METHOD:PUBLISH
X-PUBLISHED-TTL:P3D
REFRESH-INTERVAL:P3D
CALSCALE:GREGORIAN
BEGIN:VEVENT
DTSTART:20160721T220000Z
DTEND:20160721T230000Z
X-MICROSOFT-CDO-ALLDAYEVENT:FALSE
SUMMARY:Book Club at the St. George Art Museum
DESCRIPTION:Every third Thursday is the Book Club at the St. George Museum. Come join us for a lively discussion on books about the land. The May 19th book is Ralph Waldo Emerson's Book Nature 1836. Each month there will be a different book discussed and everyone is welcome to come and join the discussion.
X-ALT-DESC;FMTTYPE=text/html:Every third Thursday is the Book Club at the St. George Museum. Come join us for a lively discussion on books about the land. The May 19th book is Ralph Waldo Emerson&#39\;s Book Nature 1836. Each month there will be a different book discussed and everyone is welcome to come and join the discussion.
LOCATION:St. George Art Museum 47 E. 200 No. St. George\, UT
UID:e.1117.8601
SEQUENCE:3
DTSTAMP:20260419T165524Z
URL:https://business.stgeorgechamber.com/events/details/book-club-at-the-st-george-art-museum-07-21-2016-8601
END:VEVENT

END:VCALENDAR
