BEGIN:VCALENDAR
VERSION:2.0
PRODID:-//ChamberMaster//Event Calendar 2.0//EN
METHOD:PUBLISH
X-PUBLISHED-TTL:P3D
REFRESH-INTERVAL:P3D
CALSCALE:GREGORIAN
BEGIN:VEVENT
DTSTART:20140406T020000Z
DTEND:20140406T050000Z
X-MICROSOFT-CDO-ALLDAYEVENT:FALSE
SUMMARY:Blues Traveler in Concert
DESCRIPTION:Over the course of their illustrious career\, Blues Traveler have sold more than 10 million combined units worldwide\, played over 2\,000 live shows in front of more than 30 million people\, and\, in "Run-Around\," had the longest-charting radio single in Billboard history\, which earned them a Grammy  for Best Rock Performance by a Duo or Group with Vocals.\n\n\n\nTheir movie credits include Blues Brothers 2000\, Kingpin\, Wildflowers and others. A television favorite\, they have been featured on Saturday Night Live\, Austin City Limits\, VH1's Behind the Music and they hold the record for the most appearances of any artist on The Late Show with David Letterman.
X-ALT-DESC;FMTTYPE=text/html:Over the course of their illustrious career\, Blues Traveler have sold more than 10 million combined units worldwide\, played over 2\,000 live shows in front of more than 30 million people\, and\, in &ldquo\;Run-Around\,&rdquo\; had the longest-charting radio single in <em>Billboard</em> history\, which earned them a Grammy&reg\; for Best Rock Performance by a Duo or Group with Vocals.<br clear="none" />\n<br clear="none" />\nTheir movie credits include <em>Blues Brothers 2000\, Kingpin\, Wildflowers</em> and others. A television favorite\, they have been featured on <em>Saturday Night Live\, Austin City Limits</em>\, VH1&rsquo\;s <em>Behind the Music</em> and they hold the record for the most appearances of any artist on <em>The Late Show with David Letterman</em>.
LOCATION:Tuacahn
UID:e.1117.5182
SEQUENCE:3
DTSTAMP:20260421T112533Z
URL:https://business.stgeorgechamber.com/events/details/blues-traveler-in-concert-04-05-2014-5182
END:VEVENT

END:VCALENDAR
