BEGIN:VCALENDAR
VERSION:2.0
PRODID:-//ChamberMaster//Event Calendar 2.0//EN
METHOD:PUBLISH
X-PUBLISHED-TTL:P3D
REFRESH-INTERVAL:P3D
CALSCALE:GREGORIAN
BEGIN:VEVENT
DTSTART:20151218T190000Z
DTEND:20151218T200000Z
X-MICROSOFT-CDO-ALLDAYEVENT:FALSE
SUMMARY:BLM Brown Bag Lecture Series
DESCRIPTION:This week's Brown Bag Lecture series features Keith Behunin\, Fertile Dirt Band.  An interactive show with Behunin's 5-string banjo and holiday songs.\n\n\nThe lectures provide unique opportunities for members of the public to learn more about the area's natural resources and public lands. Speakers include geologists\, range specialists\, biologists\, archaeologists\, rangers and other specialists who delve more deeply into subjects tied to the Arizona Strip and surrounding public lands. The lectures bring the resources and public lands issues to the community's doorstep\, benefiting those who want to learn more before venturing out or wish to enjoy an armchair tour of some of the region's remote and rugged landscapes.  The lecture series is sponsored by the Dixie/Arizona Strip Interpretive Association\, Bureau of Land Management\, National Park Service and U.S. Forest Service.
X-ALT-DESC;FMTTYPE=text/html:<div style="line-height: 18.75pt\;"><font color="#000000" face="arial"><span style="font-size: 14px\;">This week&#39\;s Brown Bag Lecture series features Keith Behunin\, Fertile Dirt Band. &nbsp\;An interactive show with Behunin&#39\;s 5-string banjo and holiday songs.</span></font></div>\n<br />\n<span style="color:#000000\;"><span style="font-size:14px\;"><span style="font-family:arial\;"><span style="line-height: 24px\;">The lectures provide unique opportunities for members of the public to learn more about the area&rsquo\;s natural resources and public lands.</span><span class="pullquote" style="line-height: 24px\;">&nbsp\;Speakers include geologists\, range specialists\, biologists\, archaeologists\, rangers and other specialists who delve more deeply into subjects tied to the Arizona Strip and surrounding public lands</span><span style="line-height: 24px\;">. The lectures bring the resources and public lands issues to the community&rsquo\;s doorstep\, benefiting those who want to learn more before venturing out or wish to enjoy an armchair tour of some of the region&rsquo\;s remote and rugged landscapes. &nbsp\;</span>The lecture series is sponsored by the Dixie/Arizona Strip Interpretive Association\, Bureau of Land Management\, National Park Service and U.S. Forest Service.</span></span></span>
LOCATION:Interagency Information Center 345 E. Riverside Drive in St. George\, Utah
UID:e.1117.7374
SEQUENCE:3
DTSTAMP:20260420T031136Z
URL:https://business.stgeorgechamber.com/events/details/blm-brown-bag-lecture-series-12-18-2015-7374
END:VEVENT

END:VCALENDAR
