BEGIN:VCALENDAR
VERSION:2.0
PRODID:-//ChamberMaster//Event Calendar 2.0//EN
METHOD:PUBLISH
X-PUBLISHED-TTL:P3D
REFRESH-INTERVAL:P3D
CALSCALE:GREGORIAN
BEGIN:VEVENT
DTSTART:20150417T180000Z
DTEND:20150417T190000Z
X-MICROSOFT-CDO-ALLDAYEVENT:FALSE
SUMMARY:BLM Brown Bag Lecture Series
DESCRIPTION:Mike Small\, retired BLM Arizona Strip District wildlife biologist\, will speak about the initial and forthcoming California condor releases held each September on the Vermilion Cliffs National Monument \n\n\n\nAs of June 30\, 2014\, there were 71 condors in the wild in the rugged canyonlands of northern Arizona and Southern Utah\; the world's total population of endangered California condors numbers 439\, with more than half of them in the wild in Arizona\, Utah\, California and Mexico\n\n\nThe lectures provide unique opportunities for members of the public to learn more about the area's natural resources and public lands. Speakers include geologists\, range specialists\, biologists\, archaeologists\, rangers and other specialists who delve more deeply into subjects tied to the Arizona Strip and surrounding public lands. The lectures bring the resources and public lands issues to the community's doorstep\, benefiting those who want to learn more before venturing out or wish to enjoy an armchair tour of some of the region's remote and rugged landscapes.  The lecture series is sponsored by the Dixie/Arizona Strip Interpretive Association\, Bureau of Land Management\, National Park Service and U.S. Forest Service.
X-ALT-DESC;FMTTYPE=text/html:<div style="color: rgb(74\, 82\, 91)\; line-height: 18.75pt\;"><span style="color:#000000\;"><span style="font-size:14px\;"><span style="font-family:arial\;">Mike Small\, retired BLM Arizona Strip District wildlife biologist\, will speak about the initial and forthcoming California condor releases held each September on the Vermilion Cliffs National Monument </span></span></span></div>\n\n<div style="color: rgb(74\, 82\, 91)\; line-height: 18.75pt\;"><br />\n<span style="color:#000000\;"><span style="font-size:14px\;"><span style="font-family:arial\;">As of June 30\, 2014\, there were 71 condors in the wild in the rugged canyonlands of northern Arizona and Southern Utah\; the world&rsquo\;s total population of endangered California condors numbers 439\, with more than half of them in the wild in Arizona\, Utah\, California and Mexico</span></span></span></div>\n<br />\n<span style="color:#000000\;"><span style="font-size:14px\;"><span style="font-family:arial\;"><span style="line-height: 24px\;">The lectures provide unique opportunities for members of the public to learn more about the area&rsquo\;s natural resources and public lands.</span><span class="pullquote" style="line-height: 24px\;">&nbsp\;Speakers include geologists\, range specialists\, biologists\, archaeologists\, rangers and other specialists who delve more deeply into subjects tied to the Arizona Strip and surrounding public lands</span><span style="line-height: 24px\;">. The lectures bring the resources and public lands issues to the community&rsquo\;s doorstep\, benefiting those who want to learn more before venturing out or wish to enjoy an armchair tour of some of the region&rsquo\;s remote and rugged landscapes. &nbsp\;</span>The lecture series is sponsored by the Dixie/Arizona Strip Interpretive Association\, Bureau of Land Management\, National Park Service and U.S. Forest Service.</span></span></span>
LOCATION:Interagency Information Center 345 E. Riverside Drive in St. George\, Utah
UID:e.1117.6386
SEQUENCE:3
DTSTAMP:20260420T172817Z
URL:https://business.stgeorgechamber.com/events/details/blm-brown-bag-lecture-series-04-17-2015-6386
END:VEVENT

END:VCALENDAR
