BEGIN:VCALENDAR
VERSION:2.0
PRODID:-//ChamberMaster//Event Calendar 2.0//EN
METHOD:PUBLISH
X-PUBLISHED-TTL:P3D
REFRESH-INTERVAL:P3D
CALSCALE:GREGORIAN
BEGIN:VEVENT
DTSTART:20140321T180000Z
DTEND:20140321T190000Z
X-MICROSOFT-CDO-ALLDAYEVENT:FALSE
SUMMARY:BLM Brown Bag Lecture Series
DESCRIPTION:Join Ken Sizemore\, Executive Director for the Dixie Arizona Strip Interpretive Association for part two in his series "An Armchair Tour of Scenic Byway 12."   As a member of the Scenic Byway 12 committee\, Sizemore's love and enthusiasm for the scenery and discoveries along the route is inspiring.  The lecture series is sponsored by the Dixie/Arizona Strip Interpretive Association\, Bureau of Land Management\, National Park Service and U.S. Forest Service.
X-ALT-DESC;FMTTYPE=text/html:<p><span style="font-size:14px\;"><span style="font-family:arial\;"><span style="color:black\;">Join Ken Sizemore\, Executive Director for the Dixie Arizona Strip Interpretive Association for part two in his series &quot\;An Armchair Tour of Scenic Byway 12.&quot\;&nbsp\;&nbsp\; As a member of the Scenic Byway 12 committee\, Sizemore&#39\;s love and enthusiasm for the scenery and discoveries along the route is inspiring. &nbsp\;The lecture series is sponsored by the Dixie/Arizona Strip Interpretive Association\, Bureau of Land Management\, National Park Service and U.S. Forest Service.</span></span></span></p>\n
LOCATION:Interagency Information Center 345 E. Riverside Drive in St. George\, Utah
UID:e.1117.5135
SEQUENCE:3
DTSTAMP:20260421T141200Z
URL:https://business.stgeorgechamber.com/events/details/blm-brown-bag-lecture-series-03-21-2014-5135
END:VEVENT

END:VCALENDAR
