BEGIN:VCALENDAR
VERSION:2.0
PRODID:-//ChamberMaster//Event Calendar 2.0//EN
METHOD:PUBLISH
X-PUBLISHED-TTL:P3D
REFRESH-INTERVAL:P3D
CALSCALE:GREGORIAN
BEGIN:VEVENT
DTSTART:20160318T180000Z
DTEND:20160318T190000Z
X-MICROSOFT-CDO-ALLDAYEVENT:FALSE
SUMMARY:BLM Brown Bag Lecture Series
DESCRIPTION:This week's Brown Bag Lecture series "CAVES ACROSS THE GRAND CANYON- PARASHANT NATIONAL MONUMENT"\n\nThe simplest definition of a cave is a hole in the ground\, but caves are far more complicated than just simple holes. A more complex definition is that caves are any natural space below the surface which extends beyond the twilight zone\, and that is accessible to humans. Some would debate that spaces beneath the surface of the earth\, without openings to the surface\, should be considered caves as well. Come and find out what is really in those caves. Dr. Diana Northup is Professor Emerita in the University Libraries and visiting Associate Professor of Biology\, and leader of SLIME (subsurface life in mineral environments).\n\n\nThe lectures provide unique opportunities for members of the public to learn more about the area's natural resources and public lands. Speakers include geologists\, range specialists\, biologists\, archaeologists\, rangers and other specialists who delve more deeply into subjects tied to the Arizona Strip and surrounding public lands. The lectures bring the resources and public lands issues to the community's doorstep\, benefiting those who want to learn more before venturing out or wish to enjoy an armchair tour of some of the region's remote and rugged landscapes.  The lecture series is sponsored by the Dixie/Arizona Strip Interpretive Association\, Bureau of Land Management\, National Park Service and U.S. Forest Service.
X-ALT-DESC;FMTTYPE=text/html:<div style="line-height: 18.75pt\;"><font color="#000000" face="arial"><span style="font-size: 14px\;">This week&#39\;s Brown Bag Lecture series &quot\;</span></font><span style="color: rgb(20\, 24\, 35)\; font-family: helvetica\, arial\, sans-serif\; font-size: 14px\; line-height: 19.32px\;">CAVES ACROSS THE GRAND CANYON- PARASHANT NATIONAL MONUMENT&quot\;</span><br style="color: rgb(20\, 24\, 35)\; font-family: helvetica\, arial\, sans-serif\; font-size: 14px\; line-height: 19.32px\;" />\n<span style="color: rgb(20\, 24\, 35)\; font-family: helvetica\, arial\, sans-serif\; font-size: 14px\; line-height: 19.32px\;">The simplest definition of a cave is a hole in the ground\, but caves are far more complicated than just simple holes. A more complex definition is that caves are any natural space below the surface which extends beyond the twilight zone\, and that is accessible to humans. Some would debate that spaces beneath the surface of the earth\, without openings to the surface\, should be considered caves as well. Come and find out what is really in those caves. Dr. Diana Northup is Professor Emerita in the University Libraries and visiting Associate Professor of Biology\, and leader of SLIME (subsurface life in mineral environments).</span></div>\n<br />\n<span style="color:#000000\;"><span style="font-size:14px\;"><span style="font-family:arial\;"><span style="line-height: 24px\;">The lectures provide unique opportunities for members of the public to learn more about the area&rsquo\;s natural resources and public lands.</span><span class="pullquote" style="line-height: 24px\;">&nbsp\;Speakers include geologists\, range specialists\, biologists\, archaeologists\, rangers and other specialists who delve more deeply into subjects tied to the Arizona Strip and surrounding public lands</span><span style="line-height: 24px\;">. The lectures bring the resources and public lands issues to the community&rsquo\;s doorstep\, benefiting those who want to learn more before venturing out or wish to enjoy an armchair tour of some of the region&rsquo\;s remote and rugged landscapes. &nbsp\;</span>The lecture series is sponsored by the Dixie/Arizona Strip Interpretive Association\, Bureau of Land Management\, National Park Service and U.S. Forest Service.</span></span></span>
LOCATION:Interagency Information Center 345 E. Riverside Drive in St. George\, Utah
UID:e.1117.8528
SEQUENCE:3
DTSTAMP:20260419T215336Z
URL:https://business.stgeorgechamber.com/events/details/blm-brown-bag-lecture-series-03-18-2016-8528
END:VEVENT

END:VCALENDAR
