BEGIN:VCALENDAR
VERSION:2.0
PRODID:-//ChamberMaster//Event Calendar 2.0//EN
METHOD:PUBLISH
X-PUBLISHED-TTL:P3D
REFRESH-INTERVAL:P3D
CALSCALE:GREGORIAN
BEGIN:VEVENT
DTSTART:20140221T190000Z
DTEND:20140221T200000Z
X-MICROSOFT-CDO-ALLDAYEVENT:FALSE
SUMMARY:BLM Brown Bag Lecture Series
DESCRIPTION:The Bureau of Land Management and it's partners host the popular Brown Bag Lecture series which provides unique opportunities for members of the public to learn more about the area's natural resources and public lands. This weeks lecture - Characters of the Beaver Dam Slope Researcher Milt Hokanson will share the new oral history program being developed by BLM & SUNCLF. Beaver Dam Wash is our little piece of the Mojave Desert\, a world away from the red cliffs of St. George. While most widely known for peaceful vistas and Joshua Tree forests\, it also has a rich and varied history of ranching. Hokanson will share the best photos\, videos and oral histories he has compiled of the cowboys out on the slope.  Admission is free\, but space is limited for this popular lecture series.  To obtain tickets visit the Interagency Information Center or call 435-688-3200. Once tickets are reserved\, seating is first come\, first served among ticket holders. The lecture series is sponsored by the Dixie/Arizona Strip Interpretive Association\, Bureau of Land Management\, National Park Service and U.S. Forest Service.
X-ALT-DESC;FMTTYPE=text/html:<p>\n	<span style="font-size:14px\;"><span style="font-family:arial\;"><span style="color: rgb(51\, 51\, 51)\;">The Bureau of Land Management and it&#39\;s partners host the popular Brown Bag Lecture series which provides unique opportunities for members of the public to learn more about the area&#39\;s natural resources and public lands. This weeks lecture - Characters of the Beaver Dam Slope Researcher Milt Hokanson will share the new oral history program being developed by BLM &amp\; SUNCLF. Beaver Dam Wash is our little piece of the Mojave Desert\, a world away from the red cliffs of St. George. While most widely known for peaceful vistas and Joshua Tree forests\, it also has a rich and varied history of ranching. Hokanson will share the best photos\, videos and oral histories he has compiled of the cowboys out on the slope.&nbsp\; Admission is free\, but space is limited for this popular lecture series.&nbsp\; To obtain tickets visit the Interagency Information Center or call 435-688-3200. Once tickets are reserved\, seating is first come\, first served among ticket holders. The lecture series is sponsored by the Dixie/Arizona Strip Interpretive Association\, Bureau of Land Management\, National Park Service and U.S. Forest Service.&nbsp\;</span></span></span></p>\n
LOCATION:Interagency Information Center 345 E. Riverside Drive in St. George\, Utah
UID:e.1117.5090
SEQUENCE:3
DTSTAMP:20260421T141703Z
URL:https://business.stgeorgechamber.com/events/details/blm-brown-bag-lecture-series-02-21-2014-5090
END:VEVENT

END:VCALENDAR
