BEGIN:VCALENDAR
VERSION:2.0
PRODID:-//ChamberMaster//Event Calendar 2.0//EN
METHOD:PUBLISH
X-PUBLISHED-TTL:P3D
REFRESH-INTERVAL:P3D
CALSCALE:GREGORIAN
BEGIN:VEVENT
DTSTART:20150116T190000Z
DTEND:20150116T200000Z
X-MICROSOFT-CDO-ALLDAYEVENT:FALSE
SUMMARY:BLM Brown Bag Lecture Series
DESCRIPTION:Grand Canyon-Parashant National Monument is one of the region's most spectacular living laboratories. Eathan McIntrye\, Physical Scientist for the Grand Canyon-Parashant National Monument\, will share some of the newest and most exciting discoveries on the Monument. The lectures provide unique opportunities for members of the public to learn more about the area's natural resources and public lands. Speakers include geologists\, range specialists\, biologists\, archaeologists\, rangers and other specialists who delve more deeply into subjects tied to the Arizona Strip and surrounding public lands. The lectures bring the resources and public lands issues to the community's doorstep\, benefiting those who want to learn more before venturing out or wish to enjoy an armchair tour of some of the region's remote and rugged landscapes.  The lecture series is sponsored by the Dixie/Arizona Strip Interpretive Association\, Bureau of Land Management\, National Park Service and U.S. Forest Service.
X-ALT-DESC;FMTTYPE=text/html:<p><span style="color:#000000\;"><span style="font-size:14px\;"><span style="font-family:arial\;"><span style="line-height: 25.6000003814697px\;">Grand Canyon-Parashant National Monument is one of the region&rsquo\;s most spectacular living laboratories. Eathan McIntrye\, Physical Scientist for the Grand Canyon-Parashant National Monument\, will share some of the newest and most exciting discoveries on the Monument.</span><span style="line-height: 25.6000003814697px\;">&nbsp\;</span><span style="line-height: 24px\;">The lectures provide unique opportunities for members of the public to learn more about the area&rsquo\;s natural resources and public lands.</span><span class="pullquote" style="line-height: 24px\;">&nbsp\;Speakers include geologists\, range specialists\, biologists\, archaeologists\, rangers and other specialists who delve more deeply into subjects tied to the Arizona Strip and surrounding public lands</span><span style="line-height: 24px\;">. The lectures bring the resources and public lands issues to the community&rsquo\;s doorstep\, benefiting those who want to learn more before venturing out or wish to enjoy an armchair tour of some of the region&rsquo\;s remote and rugged landscapes. &nbsp\;</span>The lecture series is sponsored by the Dixie/Arizona Strip Interpretive Association\, Bureau of Land Management\, National Park Service and U.S. Forest Service.</span></span></span></p>\n
LOCATION:Interagency Information Center 345 E. Riverside Drive in St. George\, Utah
UID:e.1117.6251
SEQUENCE:3
DTSTAMP:20260420T215731Z
URL:https://business.stgeorgechamber.com/events/details/blm-brown-bag-lecture-series-01-16-2015-6251
END:VEVENT

END:VCALENDAR
