BEGIN:VCALENDAR
VERSION:2.0
PRODID:-//ChamberMaster//Event Calendar 2.0//EN
METHOD:PUBLISH
X-PUBLISHED-TTL:P3D
REFRESH-INTERVAL:P3D
CALSCALE:GREGORIAN
BEGIN:VEVENT
DTSTART:20150109T190000Z
DTEND:20150109T200000Z
X-MICROSOFT-CDO-ALLDAYEVENT:FALSE
SUMMARY:BLM Brown Bag Lecture Series
DESCRIPTION:Come celebrate the 15th anniversary of the Grand Canyon-Parashant National Monument. National Park Service Superintendent Rosie Pepito will discuss the history and current projects on the Monument.  The lectures provide unique opportunities for members of the public to learn more about the area's natural resources and public lands. Speakers include geologists\, range specialists\, biologists\, archaeologists\, rangers and other specialists who delve more deeply into subjects tied to the Arizona Strip and surrounding public lands. The lectures bring the resources and public lands issues to the community's doorstep\, benefiting those who want to learn more before venturing out or wish to enjoy an armchair tour of some of the region's remote and rugged landscapes.  The lecture series is sponsored by the Dixie/Arizona Strip Interpretive Association\, Bureau of Land Management\, National Park Service and U.S. Forest Service.
X-ALT-DESC;FMTTYPE=text/html:<p><span style="font-size:14px\;"><span style="font-family:arial\;"><span style="color: rgb(74\, 82\, 91)\; line-height: 25.6000003814697px\;">Come celebrate the 15</span><sup style="color: rgb(74\, 82\, 91)\; font-family: Play\, sans-serif\;">th</sup><span style="color: rgb(74\, 82\, 91)\; line-height: 25.6000003814697px\;">&nbsp\;anniversary of the Grand Canyon-Parashant National Monument. National Park Service Superintendent Rosie Pepito will discuss the history and current projects on the Monument. &nbsp\;</span><span style="color: rgb(74\, 82\, 91)\; line-height: 24px\;">The lectures provide unique opportunities for members of the public to learn more about the area&rsquo\;s natural resources and public lands.</span><span class="pullquote" style="color: rgb(74\, 82\, 91)\; line-height: 24px\;">&nbsp\;Speakers include geologists\, range specialists\, biologists\, archaeologists\, rangers and other specialists who delve more deeply into subjects tied to the Arizona Strip and surrounding public lands</span><span style="color: rgb(74\, 82\, 91)\; line-height: 24px\;">. The lectures bring the resources and public lands issues to the community&rsquo\;s doorstep\, benefiting those who want to learn more before venturing out or wish to enjoy an armchair tour of some of the region&rsquo\;s remote and rugged landscapes. &nbsp\;</span><span style="color:black\;">The lecture series is sponsored by the Dixie/Arizona Strip Interpretive Association\, Bureau of Land Management\, National Park Service and U.S. Forest Service.</span></span></span></p>\n
LOCATION:Interagency Information Center 345 E. Riverside Drive in St. George\, Utah
UID:e.1117.6250
SEQUENCE:3
DTSTAMP:20260420T220753Z
URL:https://business.stgeorgechamber.com/events/details/blm-brown-bag-lecture-series-01-09-2015-6250
END:VEVENT

END:VCALENDAR
