BEGIN:VCALENDAR
VERSION:2.0
PRODID:-//ChamberMaster//Event Calendar 2.0//EN
METHOD:PUBLISH
X-PUBLISHED-TTL:P3D
REFRESH-INTERVAL:P3D
CALSCALE:GREGORIAN
BEGIN:VEVENT
DTSTART:20150830T010000Z
DTEND:20150830T023000Z
X-MICROSOFT-CDO-ALLDAYEVENT:FALSE
SUMMARY:BioLife Plasma Open House
DESCRIPTION:Join Biolife Plasma Services as they celebrate seven years in the community with an Open House!\n\nRefreshments will be served.
X-ALT-DESC;FMTTYPE=text/html:Join Biolife Plasma Services as they celebrate seven years in the community with an&nbsp\;Open House!<br />\nRefreshments will be served.
LOCATION:816 North 2860 East St. George\, UT
UID:e.1117.7040
SEQUENCE:3
DTSTAMP:20260420T102651Z
URL:https://business.stgeorgechamber.com/events/details/biolife-plasma-open-house-08-29-2015-7040
END:VEVENT

END:VCALENDAR
