BEGIN:VCALENDAR
VERSION:2.0
PRODID:-//ChamberMaster//Event Calendar 2.0//EN
METHOD:PUBLISH
X-PUBLISHED-TTL:P3D
REFRESH-INTERVAL:P3D
CALSCALE:GREGORIAN
BEGIN:VEVENT
DTSTART:20250813T173000Z
DTEND:20250813T190000Z
X-MICROSOFT-CDO-ALLDAYEVENT:FALSE
SUMMARY:Bills Rights & Bites Policy Lunch | Sponsored by Intermountain Health
DESCRIPTION:Back to School Education Forum featuring representatives from the Washington County School District\, Dixie Technical College\, and Utah Tech University.
X-ALT-DESC;FMTTYPE=text/html:Back to School Education Forum featuring representatives from the Washington County School District\, Dixie Technical College\, and Utah Tech University.&nbsp\;
LOCATION:Select Health Auditorium 1424 E Foremaster Dr St. George\, UT 84790
UID:e.1117.17904
SEQUENCE:3
DTSTAMP:20260425T225537Z
URL:https://business.stgeorgechamber.com/events/details/bills-rights-bites-policy-lunch-sponsored-by-intermountain-health-17904
END:VEVENT

END:VCALENDAR
