BEGIN:VCALENDAR
VERSION:2.0
PRODID:-//ChamberMaster//Event Calendar 2.0//EN
METHOD:PUBLISH
X-PUBLISHED-TTL:P3D
REFRESH-INTERVAL:P3D
CALSCALE:GREGORIAN
BEGIN:VEVENT
DTSTART;VALUE=DATE:20150501
DTEND;VALUE=DATE:20150504
TRANSP:TRANSPARENT
X-MICROSOFT-CDO-ALLDAYEVENT:TRUE
SUMMARY:Beaver Dam Jam Fest
DESCRIPTION:The Beaver Dam Jam is the longest running 3 Day Music Festival in the Tri-State area. There will be LIVE music from May 1st 3rd\, 2015 at the Beaver Dam Station in Beaver Dam\, AZ. Come on out for LIVE music\, Camping\, Food\, and Lawn Mower Races.  They are just 25 miles down I-15 South of St. George.\n\nThe 8th Annual Beaver Dam Jam starts at 3pm\, Friday\,May 1st\, 2nd and 3rd. Free camping.  Come for the music and food.  Fifteen different bands are scheduled. Lawnmower Races are Saturday at 10am behind the store. We're at 86432 for with your GPS.
X-ALT-DESC;FMTTYPE=text/html:The Beaver Dam Jam is the longest running 3 Day Music Festival in the Tri-State area. There will be LIVE music from May 1st&mdash\;3rd\, 2015 at the Beaver Dam Station in Beaver Dam\, AZ. Come on out for LIVE music\, Camping\, Food\, and Lawn Mower Races.&nbsp\; They&nbsp\;<span style="font-family:arial\,sans-serif\;"><span style="font-size:10.0pt\;">are just 25 miles down I-15 South of St. George.<br />\nThe 8th Annual Beaver Dam Jam starts at 3pm\, Friday\,May 1st\, 2nd and 3rd. Free camping. &nbsp\;Come for the music and food. &nbsp\;Fifteen different bands are scheduled. Lawnmower Races are Saturday at 10am behind the store. We&#39\;re at 86432 for with your GPS.</span></span>
LOCATION:
UID:e.1117.6436
SEQUENCE:3
DTSTAMP:20260420T154633Z
URL:https://business.stgeorgechamber.com/events/details/beaver-dam-jam-fest-05-01-2015-6436
END:VEVENT

END:VCALENDAR
